BEGIN:VCALENDAR
PRODID:NingEventWidget-v1
VERSION:2.0
METHOD:PUBLISH
BEGIN:VTIMEZONE
TZID:America/Anguilla
X-LIC-LOCATION:America/Anguilla
BEGIN:STANDARD
TZOFFSETFROM:-0400
TZOFFSETTO:-0400
TZNAME:AST
DTSTART:19700101T000000
END:STANDARD
END:VTIMEZONE
BEGIN:VEVENT
UID:5831649:Event:75249
DTSTAMP:20260423T232908Z
SUMMARY:Zack Fuller and Emily Smith at Dixon Place
DESCRIPTION:Dixon Place Presents\nPromising Stones\nA brand new work-i
 n-progress\nÂ  Â  Â  Â  by Zack Fuller in collaboration with Emily Smi
 th\nÂ \nPremiering at Crossing Boundaries\nCurated by Marcia Monroe\nÂ
  \nThe evening will also feature new work by\nCate Mcnider, Regina Nej
 man, and Periapsis Music and Dance.\nÂ \nThe Dixon Place Lounge is ope
 n before and after the show,Â and you can bring your drink in the thea
 ter!Â Bar proceeds directly support DPâ€™s artists and mission.Â \nÂ \
 nÂ \nÂ \n\nFor more information visit http://conectom.leimay.org/event
 s/zack-fuller-and-emily-smith-at-dixon-place
DTSTART;TZID=America/Anguilla:20170425T193000
DTEND;TZID=America/Anguilla:20170425T210000
CATEGORIES:dance, showcase
LOCATION:Dixon Place
WEBSITE:http://dixonplace.org
URL:http://dixonplace.org
CONTACT:212-219-0736
ORGANIZER:Marcia Monroe
ATTACH;FMTTYPE="image/jpeg":http://storage.ning.com/topology/rest/1.0/
 file/get/111741081?profile=original
ATTENDEE;ROLE=REQ-PARTICIPANT;PARTSTAT=ACCEPTED;RSVP=TRUE;CN="Zack Ful
 ler":http://conectom.leimay.org/profile/ZackFuller
END:VEVENT
END:VCALENDAR
