BEGIN:VCALENDAR
PRODID:NingEventWidget-v1
VERSION:2.0
METHOD:PUBLISH
BEGIN:VTIMEZONE
TZID:America/Anguilla
X-LIC-LOCATION:America/Anguilla
BEGIN:STANDARD
TZOFFSETFROM:-0400
TZOFFSETTO:-0400
TZNAME:AST
DTSTART:19700101T000000
END:STANDARD
END:VTIMEZONE
BEGIN:VEVENT
UID:5831649:Event:32101
DTSTAMP:20260420T024949Z
SUMMARY:Yve Laris Cohen + Park McArthur // Recess Activities, Inc.
DESCRIPTION:Limited standing room will be available on a first-come fi
 rst-served basis at each performance.  We cannot guarantee that there
  will be space for everyone, but we will do our best to accomodate tho
 se who arrive before 9pm.\nYou never have it all at once, and youalway
 s have too much. Andeverything takes a long, long time.\nThis fall, Yv
 e Laris Cohen and Park McArthur will begin work at 41 Grand Street as 
 part of Recess’s signature program, Session. Session invites artists
  to use Recess’s public space as a studio, exhibition venue, or grou
 nds for experimentation. For their Session entitled September 27th –
  December 1st, Laris Cohen and McArthur will use Recess as a space to 
 work on individual and collaborative projects concerning the politics 
 of inclusion, the inconclusive boundaries of subjectivity, and the aes
 thetics of care. Their efforts will consider the pressure that bodies
  barred from or refusing correction apply to the rehabilitative turn i
 n contemporary art, as well as the generative consequences of delay in
  times of insistent, unrelenting presentness.\nThe artists’ lived re
 alities in the studio workspace—negotiating physical accessibility, 
 negotiating the conditions of storefront display—will generate aesth
 etic material. Born of their existing involvement in each other’s li
 ves, Laris Cohen and McArthur’s artwork will engage the asymmetrical
  and layered relationships of bodies and objects: body to body, body o
 n object, objects across bodies. Rather than taking a strictly phenome
 nological approach to temporality, degeneration, and coordination, the
  artists will present surfaces, texxtures, and residues as central pla
 tforms of activity and support.\nProcesses and procedures of art produ
 ction and care work exceed and exhaust representation. By listing all 
 of the people who have carried and lifted her body, for example, or by
  cataloging all of the surface imperfections made to his sculpture dur
 ing construction and exhibition, both artists attempt to track genealo
 gies. It is likely that, due to their incompleteness and overabundance
 , Laris Cohen and McArthur’s inventories only ever create left over 
 material as they come into being.\n\nFor more information visit http:/
 /conectom.leimay.org/events/yve-laris-cohen-park-mcarthur-recess-activ
 ities-inc
DTSTART;TZID=America/Anguilla:20121129T210000
DTEND;TZID=America/Anguilla:20121129T230000
CATEGORIES:"gallery performance"
LOCATION:Recess Activities, Inc.
WEBSITE:http://www.recessart.org/activities/6377
URL:http://www.recessart.org/activities/6377
CONTACT:
ORGANIZER:
ATTACH;FMTTYPE="image/jpeg":http://storage.ning.com/topology/rest/1.0/
 file/get/111735490?profile=original
ATTENDEE;ROLE=REQ-PARTICIPANT;PARTSTAT=ACCEPTED;RSVP=TRUE;CN="Raul Zbe
 ngheci":http://conectom.leimay.org/profile/RaulZbengheci
END:VEVENT
END:VCALENDAR
