BEGIN:VCALENDAR
PRODID:NingEventWidget-v1
VERSION:2.0
METHOD:PUBLISH
BEGIN:VTIMEZONE
TZID:America/Anguilla
X-LIC-LOCATION:America/Anguilla
BEGIN:STANDARD
TZOFFSETFROM:-0400
TZOFFSETTO:-0400
TZNAME:AST
DTSTART:19700101T000000
END:STANDARD
END:VTIMEZONE
BEGIN:VEVENT
UID:5831649:Event:2069
DTSTAMP:20260419T111516Z
SUMMARY:Yukio Suzuki Performance at CAVE (two works: solo and duo)
DESCRIPTION:November 10 & 11 (Wed. & Thu.) One evening two works:\n\nA
 n Understanding\n-the settling of friction, a short duo by Ximena Garn
 ica and Yukio Suzuki created in collaboration with Shige Moriya.\n\n\n
 &\n\nLick the Dust\n- The air that I breath in today, I may breath out
  years ago. A solo dance by Yukio Suzuki.\n\n\n\nTime: 8 p.m.\nCost: $
 18 for adults; $15 for NYBK students, students with valid ID and senio
 rs\nAddress: 58 Grand Street, Brooklyn NY 11211\n\nTickets available o
 nline via paypal: http://www.cavearts.org/?p=53\n\nFor more informatio
 n visit http://conectom.leimay.org/events/yukio-suzuki-performance-at
DTSTART;TZID=America/Anguilla:20101110T200000
DTEND;TZID=America/Anguilla:20101111T210000
CATEGORIES:performance
LOCATION:CAVE
WEBSITE:http://www.cavearts.org
URL:http://www.cavearts.org
CONTACT:3478384677
ORGANIZER;CN=LEIMAY:http://conectom.leimay.org/profile/LEIMAY_CAVE
ATTACH;FMTTYPE="image/jpeg":http://storage.ning.com/topology/rest/1.0/
 file/get/111733289?profile=original
ATTENDEE;ROLE=REQ-PARTICIPANT;PARTSTAT=ACCEPTED;RSVP=TRUE;CN="Theresa 
 Magario tm":http://conectom.leimay.org/profile/TheresaMagario_tm
ATTENDEE;ROLE=REQ-PARTICIPANT;PARTSTAT=ACCEPTED;RSVP=TRUE;CN=LEIMAY:ht
 tp://conectom.leimay.org/profile/LEIMAY_CAVE
ATTENDEE;ROLE=REQ-PARTICIPANT;PARTSTAT=TENTATIVE;RSVP=TRUE;CN="Tatiana
  Ronderos":http://conectom.leimay.org/profile/TatianaRonderos
END:VEVENT
END:VCALENDAR
