BEGIN:VCALENDAR
PRODID:NingEventWidget-v1
VERSION:2.0
METHOD:PUBLISH
BEGIN:VTIMEZONE
TZID:America/Anguilla
X-LIC-LOCATION:America/Anguilla
BEGIN:STANDARD
TZOFFSETFROM:-0400
TZOFFSETTO:-0400
TZNAME:AST
DTSTART:19700101T000000
END:STANDARD
END:VTIMEZONE
BEGIN:VEVENT
UID:5831649:Event:39263
DTSTAMP:20260424T095637Z
SUMMARY:Yarn/Wire + Peter Evans + Tyondai Braxton
DESCRIPTION:Yarn/Wire plays new pieces for percussion and piano quart
 et by two of NYC's most exciting musicians, composer/multi-instrumenta
 list Tyondai Braxton and trumpeter/composer Peter Evans. The evenin
 g will feature two world premieres for the quartet, a solo performance
  of Peter Evan's signature trumpet improvisations, and a duo set from 
 Tyondai Braxton + LAAND.\nYarn/Wire is a chamber quartet specializing
  in the performance of 21st century music. A unique instrumental combi
 nation of two percussionists (Ian Antonio and Russell Greenberg) and t
 wo pianists (Laura Barger and Ning Yu) allows Yarn/Wire to interface w
 ith both traditional performance practice and emergent stylistic trend
 s with ease. Founded in 2005 at Stony Brook University, the members of
  Yarn/Wire have extensive performance and pedagogic experience encompa
 ssing international and domestic music festivals, college and universi
 ty residences, and substantive work in the avant-garde theater and DIY
 /punk worlds. Frequent collaborations with composers on new work form 
 a significant portion of the ensemble’s activities. In addition to p
 resenting multiple US premieres, Yarn/Wire has given the world premier
 es of over two dozen new works written specifically for the ensemble.\
 nPeter Evans is an American trumpet player based in New York, who spe
 cializes in improvisation and avant-garde music. Evans has been a memb
 er of the New York City musical community since 2003, when he moved to
  the city after graduating from The Oberlin Conservatory of Music. Pet
 er currently works in a wide variety of areas, including solo performa
 nce, chamber orchestras, performance art, free improvised settings, el
 ectro-acoustic music and composition. In addition, he performs regular
 ly as part of the Festival of New Trumpet Music, which is held annuall
 y in New York City.\nTyondai Braxton is an American composer and elec
 tronic musician. He studied music composition at The Hartt School of t
 he University of Hartford in West Hartford, Connecticut with Robert Ca
 rl, Ingram Marshall and Ken Steen. His music incorporates electronic a
 nd modern orchestral elements, creating pieces ranging from solo piece
 s to music for large orchestra and electronics. Tyondai is also the fo
 rmer frontman of the experimental rock band group Battles.\nLAAND is 
 a visual & sound manipulation project by Grace Villamil. Inspired by e
 xploring and connecting both geographic and cultural landscapes, Grace
 's video footage and images of earth are manipulated in real time to c
 reate a hyperrealistic form of nature; dissolving perceived boundaries
  and enabling the viewer to cross into a new environment. Grace Villam
 il is a visual artist from California based in nyc. She studied Photog
 raphy and Linguistics at California State University Fullerton with Ei
 leen Cowin. Known for her dreamlike photographs where subject, object 
 and background dissolve into each other, her photo book on the Philipp
 ines Pasalubong is released this Spring. Her iconic 3 dimensional serp
 ent of flowers installation debuted last year at the Spring/Break Arts
 how during Armory Week.\n\nFor more information visit http://conectom.
 leimay.org/events/yarn-wire-peter-evans-tyondai-braxton
DTSTART;TZID=America/Anguilla:20130523T200000
DTEND;TZID=America/Anguilla:20130523T220000
CATEGORIES:"sound performance", "music improvisation", "video and musi
 c improvisation"
LOCATION:22 Boerum Place
WEBSITE:http://issueprojectroom.org/event/yarnwire-peter-evans-tyondai
 -braxton
URL:http://issueprojectroom.org/event/yarnwire-peter-evans-tyondai-bra
 xton
CONTACT:
ORGANIZER:
ATTACH;FMTTYPE="image/jpeg":http://storage.ning.com/topology/rest/1.0/
 file/get/111736557?profile=original
ATTENDEE;ROLE=REQ-PARTICIPANT;PARTSTAT=ACCEPTED;RSVP=TRUE;CN="Raul Zbe
 ngheci":http://conectom.leimay.org/profile/RaulZbengheci
END:VEVENT
END:VCALENDAR
