BEGIN:VCALENDAR
PRODID:NingEventWidget-v1
VERSION:2.0
METHOD:PUBLISH
BEGIN:VTIMEZONE
TZID:America/Anguilla
X-LIC-LOCATION:America/Anguilla
BEGIN:STANDARD
TZOFFSETFROM:-0400
TZOFFSETTO:-0400
TZNAME:AST
DTSTART:19700101T000000
END:STANDARD
END:VTIMEZONE
BEGIN:VEVENT
UID:5831649:Event:26433
DTSTAMP:20260419T192644Z
SUMMARY:Workshop Performances of THE FUTURE PERFECT by Eric Borlaug
DESCRIPTION:That was the beginning of time as she later remembered... 
 Four beings of the human persuasion create a past for themselves throu
 gh play and collaborative storytelling. It may have gone something li
 ke this, where the son is the mother and the father is the son and the
  mother is the sister and the daughter the father and the mother.  A
 n open-text process poem for the stage, THE FUTURE PERFECT blends gend
 er, person, time, and tense in a steam of collective consciousness. Gr
 adually they, you, I, we and Nosotros discover that the world we’ve 
 been creating has a gravity of its own. You may or may not have a reve
 lation about the nature of magentivity and its origin, and will very 
 likely realize something frightening in a shade of color we have never
  known before. Probably something about acceptance.\n\nFor more inform
 ation visit http://conectom.leimay.org/events/workshop-performances-of
 -the-future-perfect-by-eric-borlaug
DTSTART;TZID=America/Anguilla:20120713T200000
DTEND;TZID=America/Anguilla:20120714T200000
CATEGORIES:performance
LOCATION:Friday At CRS and Saturday AT Primary stages (CRS is at 123 4
 th ave. near union square and Primary stages is 307 West 38th St, 15th
  Floor)
WEBSITE:http://www.facebook.com/events/332716580143489/
URL:http://www.facebook.com/events/332716580143489/
CONTACT:347-927-9473
ORGANIZER:AliveWire Theatrics
ATTACH;FMTTYPE="image/jpeg":http://storage.ning.com/topology/rest/1.0/
 file/get/111734171?profile=original
ATTENDEE;ROLE=REQ-PARTICIPANT;PARTSTAT=ACCEPTED;RSVP=TRUE;CN="Scott Ro
 drigue":http://conectom.leimay.org/profile/ScottRodrigue
END:VEVENT
END:VCALENDAR
