BEGIN:VCALENDAR
PRODID:NingEventWidget-v1
VERSION:2.0
METHOD:PUBLISH
BEGIN:VTIMEZONE
TZID:America/Anguilla
X-LIC-LOCATION:America/Anguilla
BEGIN:STANDARD
TZOFFSETFROM:-0400
TZOFFSETTO:-0400
TZNAME:AST
DTSTART:19700101T000000
END:STANDARD
END:VTIMEZONE
BEGIN:VEVENT
UID:5831649:Event:44503
DTSTAMP:20260424T053429Z
SUMMARY:WORKCENTER/AMERICAS - NYC ADVENTURE 2014  THE OPEN PROGRAM RET
 URNS TO THE U.S.A. // I Am America
DESCRIPTION:\nI Am America brings the poetry of Allen Ginsberg to life
  in a performance with language culled from Ginsberg’s poetry as wel
 l as field hollers, shouts and traditional songs from the South of the
  United States. Original compositions by members of the Workcenter, de
 veloped in intensive collaboration over a period of seven years, dialo
 g with these sources.\n\nFor the Allen Ginsberg texts, Copyright © by
  the Allen Ginsberg Trust, used with permission of The Wylie Agency, L
 LC.\n\n reservations@theworkcenter.org\n\nFor more information visit 
 http://conectom.leimay.org/events/workcenter-americas-nyc-adventure-20
 14-the-open-program-returns
DTSTART;TZID=America/Anguilla:20140201T200000
DTEND;TZID=America/Anguilla:20140201T213000
CATEGORIES:performance
LOCATION:West Park Presbyterian Church
WEBSITE:http://www.theworkcenter.org/events/icalrepeat.detail/2014/01/
 06/183/1/the-workcenter-in-new-york-usa.html
URL:http://www.theworkcenter.org/events/icalrepeat.detail/2014/01/06/1
 83/1/the-workcenter-in-new-york-usa.html
CONTACT:
ORGANIZER;CN="workcenter/ THE OPEN PROGRAM":http://conectom.leimay.org
 /profile/workcenterTHEOPENPROGRAM
ATTACH;FMTTYPE="image/jpeg":http://storage.ning.com/topology/rest/1.0/
 file/get/111737724?profile=original
ATTENDEE;ROLE=REQ-PARTICIPANT;PARTSTAT=ACCEPTED;RSVP=TRUE;CN="workcent
 er/ THE OPEN PROGRAM":http://conectom.leimay.org/profile/workcenterTHE
 OPENPROGRAM
END:VEVENT
END:VCALENDAR
