BEGIN:VCALENDAR
PRODID:NingEventWidget-v1
VERSION:2.0
METHOD:PUBLISH
BEGIN:VTIMEZONE
TZID:America/Anguilla
X-LIC-LOCATION:America/Anguilla
BEGIN:STANDARD
TZOFFSETFROM:-0400
TZOFFSETTO:-0400
TZNAME:AST
DTSTART:19700101T000000
END:STANDARD
END:VTIMEZONE
BEGIN:VEVENT
UID:5831649:Event:44517
DTSTAMP:20260424T070204Z
SUMMARY:WORKCENTER/AMERICAS - NYC ADVENTURE 2014 THE OPEN PROGRAM RETU
 RNS TO THE U.S.A. // The Hidden Sayings.
DESCRIPTION:The Hidden Sayings, a new work by the Open Program present
 ed in the form of an etude, is a creative exploration of the interacti
 on between songs from the south of the United States, which belong to 
 the slave tradition, and texts related to early Christianity, translat
 ed from Coptic and coming from Egypt, the Middle East and Greece. The 
 potential explored by this work manifests through basic, simple and ye
 t complex elements – action, contact, word, singing, dance -- that c
 ombine to create conditions for a new kind of encounter to take place.
 \n\n\ncontact: reservations@theworkcenter.org \n\nFor more informatio
 n visit http://conectom.leimay.org/events/workcenter-americas-nyc-adve
 nture-2014-the-open-program-returns-5
DTSTART;TZID=America/Anguilla:20140202T200000
DTEND;TZID=America/Anguilla:20140202T211500
CATEGORIES:performance
LOCATION:West Park Presbyterian Church
WEBSITE:http://www.theworkcenter.org/
URL:http://www.theworkcenter.org/
CONTACT:818 437 7052
ORGANIZER:workcenter/ THE OPEN PROGRAM
ATTACH;FMTTYPE="image/jpeg":http://storage.ning.com/topology/rest/1.0/
 file/get/111737816?profile=original
ATTENDEE;ROLE=REQ-PARTICIPANT;PARTSTAT=ACCEPTED;RSVP=TRUE;CN="Theresa 
 Magario tm":http://conectom.leimay.org/profile/TheresaMagario_tm
END:VEVENT
END:VCALENDAR
