BEGIN:VCALENDAR
PRODID:NingEventWidget-v1
VERSION:2.0
METHOD:PUBLISH
BEGIN:VTIMEZONE
TZID:America/Anguilla
X-LIC-LOCATION:America/Anguilla
BEGIN:STANDARD
TZOFFSETFROM:-0400
TZOFFSETTO:-0400
TZNAME:AST
DTSTART:19700101T000000
END:STANDARD
END:VTIMEZONE
BEGIN:VEVENT
UID:5831649:Event:44269
DTSTAMP:20260424T094314Z
SUMMARY:WORKCENTER/AMERICAS - NYC ADVENTURE 2014  THE OPEN PROGRAM RET
 URNS TO THE U.S.A. // Not History’s Bones – A Poetry Concert
DESCRIPTION:Not History’s Bones – A Poetry Concert is an event in 
 the form of a concert, which explores the rich roots of different cont
 emporary musical styles through original songs composed by the members
  of this international group. Using the poetry of Allen Ginsberg as th
 eir textual materials, the Open Program awakens the plurality of meani
 ngs, perceptions, and intuitions carried by the poetic word.\n\nFor th
 e Allen Ginsberg texts, Copyright © by the Allen Ginsberg Trust, used
  with permission of The Wylie Agency, LLC.\n\n\nreservations@theworkce
 nter.org\n\nFor more information visit http://conectom.leimay.org/even
 ts/workcenter-americas-nyc-adventure-2014-the-open-program-returns-1
DTSTART;TZID=America/Anguilla:20140207T200000
DTEND;TZID=America/Anguilla:20140207T220000
CATEGORIES:performance
LOCATION:West Park Presbyterian Church
WEBSITE:http://www.theworkcenter.org/
URL:http://www.theworkcenter.org/
CONTACT:
ORGANIZER;CN="workcenter/ THE OPEN PROGRAM":http://conectom.leimay.org
 /profile/workcenterTHEOPENPROGRAM
ATTACH;FMTTYPE="image/jpeg":http://storage.ning.com/topology/rest/1.0/
 file/get/111737764?profile=original
ATTENDEE;ROLE=REQ-PARTICIPANT;PARTSTAT=ACCEPTED;RSVP=TRUE;CN="workcent
 er/ THE OPEN PROGRAM":http://conectom.leimay.org/profile/workcenterTHE
 OPENPROGRAM
END:VEVENT
END:VCALENDAR
