BEGIN:VCALENDAR
PRODID:NingEventWidget-v1
VERSION:2.0
METHOD:PUBLISH
BEGIN:VTIMEZONE
TZID:America/Anguilla
X-LIC-LOCATION:America/Anguilla
BEGIN:STANDARD
TZOFFSETFROM:-0400
TZOFFSETTO:-0400
TZNAME:AST
DTSTART:19700101T000000
END:STANDARD
END:VTIMEZONE
BEGIN:VEVENT
UID:5831649:Event:39740
DTSTAMP:20260420T185941Z
SUMMARY:Wood & Silk: A shared evening of textural choreography
DESCRIPTION:Rachel Cohen (Racoco/Rx) and Jody Sperling (Time Lapse Dan
 ce) are two innovative choreographers whose works create dynamic sculp
 tural forms by extending the body in space. Sperling uses lightweight 
 silk costuming and Cohen is currently exploring wood and sandpaper. In
  \"Wood & Silk\" the two present their contrasting, yet complementary,
  approaches side by side, in an evening of visually arresting dance.\n
 \nFor more information visit http://conectom.leimay.org/events/wood-si
 lk-a-shared-evening-of-textural-choreography
DTSTART;TZID=America/Anguilla:20130627T200000
DTEND;TZID=America/Anguilla:20130629T200000
CATEGORIES:performance
LOCATION:Danspace Project at St. Marks Church in-the-Bowery
WEBSITE:http://www.danspaceproject.org/calendarandtickets/detail.php?i
 d=224
URL:http://www.danspaceproject.org/calendarandtickets/detail.php?id=22
 4
CONTACT:*866) 811-4111
ORGANIZER;CN="Rachel Cohen":http://conectom.leimay.org/profile/RachelC
 ohen
ATTACH;FMTTYPE="image/jpeg":http://storage.ning.com/topology/rest/1.0/
 file/get/111737008?profile=original
ATTENDEE;ROLE=REQ-PARTICIPANT;PARTSTAT=ACCEPTED;RSVP=TRUE;CN="Rachel C
 ohen":http://conectom.leimay.org/profile/RachelCohen
END:VEVENT
END:VCALENDAR
