BEGIN:VCALENDAR
PRODID:NingEventWidget-v1
VERSION:2.0
METHOD:PUBLISH
BEGIN:VTIMEZONE
TZID:America/Anguilla
X-LIC-LOCATION:America/Anguilla
BEGIN:STANDARD
TZOFFSETFROM:-0400
TZOFFSETTO:-0400
TZNAME:AST
DTSTART:19700101T000000
END:STANDARD
END:VTIMEZONE
BEGIN:VEVENT
UID:5831649:Event:78049
DTSTAMP:20260419T192436Z
SUMMARY:We The People
DESCRIPTION:We The People intersects art, culture, and democracy and 
 has its roots in Double Edge’s thirty-five-year question of what mak
 es up identity. What are the paradoxes, the stories, the dreams that m
 ake up a human being, a community, a society? In We The People, the au
 dience will experience the beauty of the hills, pastures, and gardens 
 of the Farm surrounded by music and flight, weaving through different 
 paths toward a culminating grand scene.\n\nPreviews: July 14-15   Pe
 rformances: July 19 - Aug 6 (Wed-Sun) & Tues Aug 1\n8pm, rain or shi
 ne\n\nFor more information visit http://conectom.leimay.org/events/we-
 the-people
DTSTART;TZID=America/Anguilla:20170714T200000
DTEND;TZID=America/Anguilla:20170806T220000
CATEGORIES:performance
LOCATION:Double Edge Theatre
WEBSITE:http://doubleedgetheatre.org/we-the-people
URL:http://doubleedgetheatre.org/we-the-people
CONTACT:4136280277
ORGANIZER:Double Edge Theatre
ATTACH;FMTTYPE="image/jpeg":http://storage.ning.com/topology/rest/1.0/
 file/get/111741638?profile=original
ATTENDEE;ROLE=REQ-PARTICIPANT;PARTSTAT=ACCEPTED;RSVP=TRUE;CN="Cariel K
 lein":http://conectom.leimay.org/profile/CarielKlein
END:VEVENT
END:VCALENDAR
