BEGIN:VCALENDAR
PRODID:NingEventWidget-v1
VERSION:2.0
METHOD:PUBLISH
BEGIN:VTIMEZONE
TZID:America/Anguilla
X-LIC-LOCATION:America/Anguilla
BEGIN:STANDARD
TZOFFSETFROM:-0400
TZOFFSETTO:-0400
TZNAME:AST
DTSTART:19700101T000000
END:STANDARD
END:VTIMEZONE
BEGIN:VEVENT
UID:5831649:Event:28984
DTSTAMP:20260419T203002Z
SUMMARY:Vocal Training Workshop: From Specialized Practice to Jazz Rep
 ertoire Performance
DESCRIPTION:Vocal Training Workshop: From Specialized Practice to Jazz
  Repertoire Performance From October 13th., each Saturday 3 to 5pm ART
 /NY Studios  520 8th Avenue, 3rd Floor, New York, NY 10018  Exploit yo
 ur potential as a solo and small vocal ensemble singer. Perfect your p
 erforming skills.    This workshop will focus on the development of t
 he singing voice through body awareness-applying the Feldenkrais Metho
 d-and voice techniques from the worlds of classical, jazz and contempo
 rary music. Aural awareness will be improved through ear exercises and
  free improvisation ensemble singing. Techniques for performance pract
 ice and dealing with performance anxiety will be addressed while worki
 ng in the interpretation and presentation of individual and small voca
 l ensemble songs in the areas of jazz and Latin jazz music.  The works
 hop will be divided in two periods of 10 weeks each one (a total of 40
  hours).   - Open to people with a background in singing.  - There wil
 l be a final concert. To be able to participate in the final concert, 
 students have to do Workshop Part I & Part II. - As a finalization of 
 the workshop there will be an open concert in March 30, 2013.  - There
  will be rehearsals with an accompanist musician during Workshop Part 
 II.  If you are interested to participate or have questions about it, 
 please click: Registration or you can also contact me directly at 212 
 368 8746.  PROGRAM Classes:  Saturdays, from 3 to 5 pm   Workshop Par
 t I (10 weeks, 20 hours) - October 13 through December 22, 2012. For 1
 0 weeks, close attention will be paid to body awareness and voice tech
 nique. Participants will work to develop repertoire (they will choose 
 2 songs from a list given by the Instructor) and there will be songs p
 erformed in duos & trios. Individual and collective improvisational sk
 ills will also be developed.   Workshop Part II (10 weeks , 20 hours) 
 - January 5th. through March 30, 2013. For 10 weeks, close attention w
 ill be paid to voice technique and preparation for the live performanc
 e. Participants will rehearse their individual songs with an accompani
 st, and work as an ensemble to create collective improvisational piece
 s.\n\nFor more information visit http://conectom.leimay.org/events/voc
 al-training-workshop-from-specialized-practice-to-jazz
DTSTART;TZID=America/Anguilla:20121103T150000
DTEND;TZID=America/Anguilla:20121103T190000
CATEGORIES:workshop
LOCATION:ART/NY Studios
WEBSITE:http://www.iatitheater.org
URL:http://www.iatitheater.org
CONTACT:212 505 6757
ORGANIZER:IATI Theater
ATTACH;FMTTYPE="image/jpeg":http://storage.ning.com/topology/rest/1.0/
 file/get/111735275?profile=original
ATTENDEE;ROLE=REQ-PARTICIPANT;PARTSTAT=ACCEPTED;RSVP=TRUE;CN="Sabrina 
 Lastman":http://conectom.leimay.org/profile/SabrinaLastman
END:VEVENT
END:VCALENDAR
