BEGIN:VCALENDAR
PRODID:NingEventWidget-v1
VERSION:2.0
METHOD:PUBLISH
BEGIN:VTIMEZONE
TZID:America/Anguilla
X-LIC-LOCATION:America/Anguilla
BEGIN:STANDARD
TZOFFSETFROM:-0400
TZOFFSETTO:-0400
TZNAME:AST
DTSTART:19700101T000000
END:STANDARD
END:VTIMEZONE
BEGIN:VEVENT
UID:5831649:Event:52590
DTSTAMP:20260424T112755Z
SUMMARY:VOCAL IMMERSION: Technique, Interpretation, Freedom of Express
 ion, Ensemble Work
DESCRIPTION:VOCAL IMMERSION:  TECHNIQUE / INTERPRETATION / FREEDOM OF 
 EXPRESSION / ENSEMBLE WORK  Sat. & Sun., Sept. 20 & 21 (2-5pm) Sat. & 
 Sun., Sept. 27 & 28 (2-5pm) Showcase: Sunday 28, 6pm.  IATI Theater 64
  East 4th Street, 2nd Floor New York, NY 10003  Description This inten
 sive 4 day workshop will focus on enhancing: your singing voice, freed
 om of expression, interpretation, and ensemble work, through vocal tec
 hnique, individual and collective vocal improvisation, individual song
  presentation, and ensemble work. Techniques for performance practice 
 and dealing with performance anxiety will be addressed. This path of w
 ork promotes a state of creativity, spontaneity, and a safe atmosphere
  for learning and collaboration among the participants. Â  Showcase As
  a finalization of the workshop, participants will be part of an open 
 performance at IATI Theater studio on Sunday, September 28th at 6pm: Â
   â€¢Â  Collective structured and guided improvisations will be create
 d in collaboration with participants. Â  â€¢Â  Ensemble staged songs w
 ill be taught by the instructor. Â  â€¢Â  Participant will present one
  solo song in the genre of their choice and perform it in complete con
 nection with their body and movements.  How to register To register fo
 r the workshop, complete the Registration Form and make your Payment O
 nline. To pay by check, download and complete the form, and submit the
  printed form with your payment. Mailing address is below. Please writ
 e check to \"IATI Theater.\"  IATI Theater 64 East 4th Street, 2nd Flo
 or New York, NY 10003 Attention: Winston Estevez winston@iatitheater.o
 rg\n\nFor more information visit http://conectom.leimay.org/events/voc
 al-immersion-technique-interpretation-freedom-of-expression
DTSTART;TZID=America/Anguilla:20140920T140000
DTEND;TZID=America/Anguilla:20140928T170000
CATEGORIES:workshop
LOCATION:IATI Theater
WEBSITE:http://www.iatitheater.org/workshops/detail/vocal_immersion
URL:http://www.iatitheater.org/workshops/detail/vocal_immersion
CONTACT:212 505 6757 / 765 532 3714
ORGANIZER:IATI Theater
ATTACH;FMTTYPE="image/jpeg":http://storage.ning.com/topology/rest/1.0/
 file/get/111738744?profile=original
ATTENDEE;ROLE=REQ-PARTICIPANT;PARTSTAT=ACCEPTED;RSVP=TRUE;CN="Sabrina 
 Lastman":http://conectom.leimay.org/profile/SabrinaLastman
END:VEVENT
END:VCALENDAR
