BEGIN:VCALENDAR
PRODID:NingEventWidget-v1
VERSION:2.0
METHOD:PUBLISH
BEGIN:VTIMEZONE
TZID:America/Anguilla
X-LIC-LOCATION:America/Anguilla
BEGIN:STANDARD
TZOFFSETFROM:-0400
TZOFFSETTO:-0400
TZNAME:AST
DTSTART:19700101T000000
END:STANDARD
END:VTIMEZONE
BEGIN:VEVENT
UID:5831649:Event:59560
DTSTAMP:20260419T130930Z
SUMMARY:\"Viva la Vida\" debuts in New York City!
DESCRIPTION:\n\nAs part of ¿Qué Onda?: Dressing the Part\nArtist Pol
 ina Porras and documentary film maker Cristina Ibarra discuss works th
 at examine the performance of feminity and rituals marking the transit
 ion from girlhood.  The evening will feature a screening of Ibarra's 
 Las Marthas, a behind-the-scenes look into the annual debutante ball i
 n Laredo, Texas, and excerpts from Porras' Viva la Vida, a site-spec
 ific performance outside a church in Oaxaca in February 2014 that addr
 esses the weight of history, religion, society's expectations in women
 's lives. Immediately following the screening, join us for a conversat
 ion with our guest speakers.\n\n\n  Click HERE for more Information\
 n\n\n\n\n\n\n\n\n\n\n\n\n\n\n\n\n\n\n\n\n\n\n\n\n\n\n\n\nFor more info
 rmation visit http://conectom.leimay.org/events/viva-la-vida-debuts-in
 -new-york-city
DTSTART;TZID=America/Anguilla:20150318T183000
DTEND;TZID=America/Anguilla:20150318T200000
CATEGORIES:film
LOCATION:El Museo del Barrio New York, El Cafe
WEBSITE:http://elmuseo.org/events
URL:http://elmuseo.org/events
CONTACT:
ORGANIZER:
ATTACH;FMTTYPE="image/jpeg":http://storage.ning.com/topology/rest/1.0/
 file/get/111739436?profile=original
ATTENDEE;ROLE=REQ-PARTICIPANT;PARTSTAT=ACCEPTED;RSVP=TRUE;CN="Theresa 
 Magario tm":http://conectom.leimay.org/profile/TheresaMagario_tm
END:VEVENT
END:VCALENDAR
