BEGIN:VCALENDAR
PRODID:NingEventWidget-v1
VERSION:2.0
METHOD:PUBLISH
BEGIN:VTIMEZONE
TZID:America/Anguilla
X-LIC-LOCATION:America/Anguilla
BEGIN:STANDARD
TZOFFSETFROM:-0400
TZOFFSETTO:-0400
TZNAME:AST
DTSTART:19700101T000000
END:STANDARD
END:VTIMEZONE
BEGIN:VEVENT
UID:5831649:Event:43233
DTSTAMP:20260419T160146Z
SUMMARY:UNVEILING MOTION AND EMOTION: Book Reading and Dance Performan
 ce
DESCRIPTION:UNVEILING MOTION AND EMOTION\nWRITINGS BY ANABELLA LENZU W
 ITH PHOTOGRAPHY BY TODD CARROLL\nExploring the importance of dance, co
 mmunity, choreography and dance pedagogy, Argentinean ChoreographerÂ A
 nabella Lenzu celebrates 20 yearsÂ of teaching dance in a bookÂ of her
  writingsÂ in Spanish and English. Having opened her own dance school 
 at 18, Lenzu recounts her experiences teaching in South America, Europ
 e, and the US, as well as publishing an arts magazine and creating rep
 ertory for her dance company. Lenzu's eloquent prose revealsÂ reflecti
 ons of a life devoted to dance performance and education.Â Photography
  by Todd CarrollÂ fully documents the performances and provides a glim
 pse into the creative process. This book is an inspiration to dancers 
 and teachers alike, and the first of its kind as a bilingual text on d
 anceÂ pedagogy.Â \n\nPresentations:\n\nTuesday, November 12 at 6pm:Â Â
  Bilingual Book Reading, Performance and Photo Projection atÂ Institut
 o CervantesÂ Â (215 East 49th Street, New York) FREE Admission\n\n\n\n
 \nFor more information visit http://conectom.leimay.org/events/unveili
 ng-motion-and-emotion-book-reading-and-dance-performance
DTSTART;TZID=America/Anguilla:20131112T180000
DTEND;TZID=America/Anguilla:20131112T220000
CATEGORIES:book, reading, and, dance, performance
LOCATION:Instituto Cervantes
WEBSITE:http://www.anabellalenzu.com/book/
URL:http://www.anabellalenzu.com/book/
CONTACT:
ORGANIZER;CN="Anabella Lenzu":http://conectom.leimay.org/profile/Anabe
 llaLenzu
ATTACH;FMTTYPE="image/jpeg":http://storage.ning.com/topology/rest/1.0/
 file/get/111737615?profile=original
ATTENDEE;ROLE=REQ-PARTICIPANT;PARTSTAT=ACCEPTED;RSVP=TRUE;CN="Anabella
  Lenzu":http://conectom.leimay.org/profile/AnabellaLenzu
END:VEVENT
END:VCALENDAR
