BEGIN:VCALENDAR
PRODID:NingEventWidget-v1
VERSION:2.0
METHOD:PUBLISH
BEGIN:VTIMEZONE
TZID:America/Anguilla
X-LIC-LOCATION:America/Anguilla
BEGIN:STANDARD
TZOFFSETFROM:-0400
TZOFFSETTO:-0400
TZNAME:AST
DTSTART:19700101T000000
END:STANDARD
END:VTIMEZONE
BEGIN:VEVENT
UID:5831649:Event:75572
DTSTAMP:20260423T233028Z
SUMMARY:Triskelion Arts Presents... Rastro/Julieta Valero
DESCRIPTION:Triskelion Arts' 2017 Resident Artist, Rastro/Julieta Vale
 ro, culminates her residency with the premiere of \"Cancionero\", a n
 ostalgic piece that explores the dichotomy of being alone while within
  a sea of people. Very much like living in NYC, for many, the work inv
 estigates that sense of being connected while at the same time feeling
  very isolated. The movement, combining simple gestures and elaborate 
 choreography, exploits the humanness of the body and its beauty, throu
 gh a diverse musical backdrop.\n\nTickets: $16 in advance / $20 at the
  door\nPurchase: https://www.eventbrite.com/e/triskelion-arts-present
 s-rastrojulieta-valero-tickets-30725110633\n\nFor more information vis
 it http://conectom.leimay.org/events/triskelion-arts-presents-rastro-j
 ulieta-valero
DTSTART;TZID=America/Anguilla:20170615T200000
DTEND;TZID=America/Anguilla:20170617T200000
CATEGORIES:dance, performance
LOCATION:Triskelion Arts' Muriel Schulman Theater
WEBSITE:http://www.triskelionarts.org/julietavalero
URL:http://www.triskelionarts.org/julietavalero
CONTACT:718-389-3473
ORGANIZER;CN="Triskelion Arts":http://conectom.leimay.org/profile/Tris
 kelionArts
ATTACH;FMTTYPE="image/jpeg":http://storage.ning.com/topology/rest/1.0/
 file/get/111741695?profile=original
ATTENDEE;ROLE=REQ-PARTICIPANT;PARTSTAT=ACCEPTED;RSVP=TRUE;CN="Triskeli
 on Arts":http://conectom.leimay.org/profile/TriskelionArts
END:VEVENT
END:VCALENDAR
