BEGIN:VCALENDAR
PRODID:NingEventWidget-v1
VERSION:2.0
METHOD:PUBLISH
BEGIN:VTIMEZONE
TZID:America/Anguilla
X-LIC-LOCATION:America/Anguilla
BEGIN:STANDARD
TZOFFSETFROM:-0400
TZOFFSETTO:-0400
TZNAME:AST
DTSTART:19700101T000000
END:STANDARD
END:VTIMEZONE
BEGIN:VEVENT
UID:5831649:Event:36462
DTSTAMP:20260422T081523Z
SUMMARY:Trajal Harrell // Used, Abused, and Hung Out to Dry
DESCRIPTION:This new work stems partially from Harrell's research into
  the life and work of Japanese choreographer Tatsumi Hijikata (1928–
 1986), and his development of butoh, a dance form he created in part 
 to resist the conservatism he saw permeating the choreography of postw
 ar Japan. Hijikata situated butoh as an outlaw, literary, and surreali
 st dance form, drawing on themes of death, criminality, abjection, and
  corporeality.\n\nFor more information visit http://conectom.leimay.or
 g/events/trajal-harrell-used-abused-and-hung-out-to-dry
DTSTART;TZID=America/Anguilla:20130213T200000
DTEND;TZID=America/Anguilla:20130214T220000
CATEGORIES:"butoh reappropriation", "trajal harrell", "gutai and butoh
 "
LOCATION:MoMA
WEBSITE:http://www.moma.org/visit/calendar/exhibitions/1328
URL:http://www.moma.org/visit/calendar/exhibitions/1328
CONTACT:
ORGANIZER:
ATTACH;FMTTYPE="image/jpeg":http://storage.ning.com/topology/rest/1.0/
 file/get/111735870?profile=original
ATTENDEE;ROLE=REQ-PARTICIPANT;PARTSTAT=ACCEPTED;RSVP=TRUE;CN="Raul Zbe
 ngheci":http://conectom.leimay.org/profile/RaulZbengheci
END:VEVENT
END:VCALENDAR
