BEGIN:VCALENDAR
PRODID:NingEventWidget-v1
VERSION:2.0
METHOD:PUBLISH
BEGIN:VTIMEZONE
TZID:America/Anguilla
X-LIC-LOCATION:America/Anguilla
BEGIN:STANDARD
TZOFFSETFROM:-0400
TZOFFSETTO:-0400
TZNAME:AST
DTSTART:19700101T000000
END:STANDARD
END:VTIMEZONE
BEGIN:VEVENT
UID:5831649:Event:35651
DTSTAMP:20260420T040559Z
SUMMARY:Trade Practices // Culturemart 2013
DESCRIPTION:Trade Practices is an interactive live art event, created
  by Kristin Marting and David Morris, which drops audiences into a liv
 ing market in the trade of short, serialized performances wherein they
  examine the means by which they determine value and become actors—r
 ational or otherwise—on an economic stage. Collaborators include Oan
 a Botez Ban, Erin Courtney, Eisa Davis, Xander Duell, Chris Kuhl, Robe
 rt Lyons, Jared Mezzocchi, Qui Nguyen, KJ Sanchez, Jane Shaw, and Chri
 s Wells.\n\nTickets: $10/$15\n\nFor more information visit http://cone
 ctom.leimay.org/events/trade-practices-culturemart-2013-1
DTSTART;TZID=America/Anguilla:20130210T203000
DTEND;TZID=America/Anguilla:20130210T223000
CATEGORIES:"free performance market extravaganza", "idea performance"
LOCATION:HERE Arts Center
WEBSITE:http://www.here.org/shows/detail/1125/
URL:http://www.here.org/shows/detail/1125/
CONTACT:
ORGANIZER:
ATTACH;FMTTYPE="image/jpeg":http://storage.ning.com/topology/rest/1.0/
 file/get/111735763?profile=original
ATTENDEE;ROLE=REQ-PARTICIPANT;PARTSTAT=ACCEPTED;RSVP=TRUE;CN="Tamira C
 ahana":http://conectom.leimay.org/profile/TamiraCahana
END:VEVENT
END:VCALENDAR
