BEGIN:VCALENDAR
PRODID:NingEventWidget-v1
VERSION:2.0
METHOD:PUBLISH
BEGIN:VTIMEZONE
TZID:America/Anguilla
X-LIC-LOCATION:America/Anguilla
BEGIN:STANDARD
TZOFFSETFROM:-0400
TZOFFSETTO:-0400
TZNAME:AST
DTSTART:19700101T000000
END:STANDARD
END:VTIMEZONE
BEGIN:VEVENT
UID:5831649:Event:38850
DTSTAMP:20260424T154830Z
SUMMARY:Toni Dove // Lucid Posession
DESCRIPTION:Lucid Possession is a futuristic dramatized song-cycle th
 at unfolds in a haunting display of the admixture of the human and the
  robotic, the spiritual and the digital. Employing a state-of-the-art 
 motion-sensing system designed by Dove and R. Luke DuBois and an aston
 ishing assemblage of video projections, an unforgettable performance e
 merges as characters, both live on stage and programmed video avatars 
 alike, interact in increasing intensity to dramatize a contemporary gh
 ost story: a poetic musing on managing the mass of information 'noise.
 ' The result is a complex three-dimensional, automated video pop-up bo
 ok in which the characters – real and virtual – are brought to lif
 e through motion, voice, and robotic technology, and the boundaries of
  the real and virtual are blurred, mirroring our rapidly-changing emot
 ional and cognitive landscape.\nA Live-Mix Cinema Performance\nPerform
 ed by Toni Dove, Hai-Ting Chinn (mezzo soprano), with a live score by 
 Todd Reynolds.\nR. Luke DuBois: Software Design Songs composed by Elli
 ott Sharp Bob McGrath: Co-Director of Staging Ed Bear and Matt Tennie:
  Technical Directors, live robotics/sound control Costume design and s
 creen fabrication Karen Young Robotics by Leif Krinkle and Ed Bear\nCo
 -Produced by Roulette, Issue Project Room, and HERE.\n\nFor more infor
 mation visit http://conectom.leimay.org/events/toni-dove-lucid-posessi
 on
DTSTART;TZID=America/Anguilla:20130425T200000
DTEND;TZID=America/Anguilla:20130427T213000
CATEGORIES:"multi-media performance", "motion sensing", "the physical 
 and the virtual"
LOCATION:Roulette
WEBSITE:http://roulette.org/events/toni-dove-lucid-possession/
URL:http://roulette.org/events/toni-dove-lucid-possession/
CONTACT:
ORGANIZER:
ATTACH;FMTTYPE="image/jpeg":http://storage.ning.com/topology/rest/1.0/
 file/get/111736441?profile=original
ATTENDEE;ROLE=REQ-PARTICIPANT;PARTSTAT=ACCEPTED;RSVP=TRUE;CN=LEIMAY:ht
 tp://conectom.leimay.org/profile/LEIMAY_CAVE
END:VEVENT
END:VCALENDAR
