BEGIN:VCALENDAR
PRODID:NingEventWidget-v1
VERSION:2.0
METHOD:PUBLISH
BEGIN:VTIMEZONE
TZID:America/Anguilla
X-LIC-LOCATION:America/Anguilla
BEGIN:STANDARD
TZOFFSETFROM:-0400
TZOFFSETTO:-0400
TZNAME:AST
DTSTART:19700101T000000
END:STANDARD
END:VTIMEZONE
BEGIN:VEVENT
UID:5831649:Event:34309
DTSTAMP:20260424T095708Z
SUMMARY:Tokyo: Experiments in Music and Performance
DESCRIPTION:This music program, showcasing experimental musical perfor
 mances that took place in Tokyo in the 1960s, features musician Tone Y
 asunao, an experimental musician and sound artist who has played an im
 portant role in experimental music and art scenes in Tokyo and New Yor
 k since the 1960s. The program features Tone’s graphic scores from M
 oMA’s Gilbert and Lila Silverman Fluxus Collection and from Tone’s
  personal collection. Explore live experimental performances that comb
 ine film, sound, and improvised music, including one using a manipulat
 ed film projector. Then watch the event culminate in Fluxus-based even
 ts and actions, including the destruction of a piano.\n\nFor more info
 rmation visit http://conectom.leimay.org/events/tokyo-experiments-in-m
 usic-and-performance
DTSTART;TZID=America/Anguilla:20130110T180000
DTEND;TZID=America/Anguilla:20130110T200000
CATEGORIES:"sound performance", "tokyo avant garde", moma, "broken pia
 nos"
LOCATION:MoMA, Theater 3 (The Celeste Bartos Theater), mezzanine
WEBSITE:http://www.moma.org/visit/calendar/events/17131
URL:http://www.moma.org/visit/calendar/events/17131
CONTACT:
ORGANIZER:
ATTACH;FMTTYPE="image/jpeg":http://storage.ning.com/topology/rest/1.0/
 file/get/111735743?profile=original
ATTENDEE;ROLE=REQ-PARTICIPANT;PARTSTAT=ACCEPTED;RSVP=TRUE;CN="Raul Zbe
 ngheci":http://conectom.leimay.org/profile/RaulZbengheci
END:VEVENT
END:VCALENDAR
