BEGIN:VCALENDAR
PRODID:NingEventWidget-v1
VERSION:2.0
METHOD:PUBLISH
BEGIN:VTIMEZONE
TZID:America/Anguilla
X-LIC-LOCATION:America/Anguilla
BEGIN:STANDARD
TZOFFSETFROM:-0400
TZOFFSETTO:-0400
TZNAME:AST
DTSTART:19700101T000000
END:STANDARD
END:VTIMEZONE
BEGIN:VEVENT
UID:5831649:Event:60749
DTSTAMP:20260419T161731Z
SUMMARY:\"this and this and this is when i start\"
DESCRIPTION:Two Augusts ago, I left Brooklyn for Yonkers, to pursue my
  MFA in dance at Sarah Lawrence College. I feel incredibly grateful f
 or the two years I've spent choreographing, dancing, reading, writing
 , teaching, playing with model skeletons, digging up creative ghosts,
  finding new ones. \nTime has flown by, and somehow it is already 
 time for me to invite you to my MFA thesis showing! \nI will be show
 ing a work-in-progress that is the culmination of my creative research
  this past year. \"this and this and this is when i start\" is a d
 ance for my colleagues Jonathan Gonzalez and Sandra Kramerova, two wi
 nd chimes, three fans, and a moveable audience, with sound design by R
 iley Smith and myself. \n\nWHAT: MFA thesis show WHEN: April 24 at 
 7:30pm and April 26 at 2pm WHERE: Bessie Schonburg Theater for Danc
 e, PAC Sarah Lawrence College 1 Mead Way Bronxville, NY Tickets: FREE
  Reservations: emailchartigan@sarahlawrence.edu By train from NYC: T
 ake North White Plains line from Grand Central Station to Bronxville (
 25 minutes), Sarah Lawrence is about a 15 minute walk from the Bronxvi
 lle train station or a 5 minute cab ride.\n ALSO: I will be sharing t
 he bill with my lovely cohorts Meghan Meehan and Stephanie Nerbak. Sa
 turday April 25th at 7:30 and Sunday April 26th at 7pm, I will be da
 ncing in the work of my cohort Jonathan Gonzalez. Same deal, same plac
 e.\n\nFor more information visit http://conectom.leimay.org/events/thi
 s-and-this-and-this-is-when-i-start
DTSTART;TZID=America/Anguilla:20150424T193000
DTEND;TZID=America/Anguilla:20150426T140000
CATEGORIES:dance
LOCATION:Bessie Schonburg Theater for Dance, PAC Sarah Lawrence Colleg
 e
WEBSITE:https://www.sarahlawrence.edu/
URL:https://www.sarahlawrence.edu/
CONTACT:
ORGANIZER;CN="Theresa Magario tm":http://conectom.leimay.org/profile/T
 heresaMagario_tm
ATTACH;FMTTYPE="image/jpeg":http://storage.ning.com/topology/rest/1.0/
 file/get/111739710?profile=original
ATTENDEE;ROLE=REQ-PARTICIPANT;PARTSTAT=ACCEPTED;RSVP=TRUE;CN="mike dot
 hal":http://conectom.leimay.org/profile/mikedothal
ATTENDEE;ROLE=REQ-PARTICIPANT;PARTSTAT=ACCEPTED;RSVP=TRUE;CN="Theresa 
 Magario tm":http://conectom.leimay.org/profile/TheresaMagario_tm
END:VEVENT
END:VCALENDAR
