BEGIN:VCALENDAR
PRODID:NingEventWidget-v1
VERSION:2.0
METHOD:PUBLISH
BEGIN:VTIMEZONE
TZID:America/Anguilla
X-LIC-LOCATION:America/Anguilla
BEGIN:STANDARD
TZOFFSETFROM:-0400
TZOFFSETTO:-0400
TZNAME:AST
DTSTART:19700101T000000
END:STANDARD
END:VTIMEZONE
BEGIN:VEVENT
UID:5831649:Event:55604
DTSTAMP:20260419T163723Z
SUMMARY:THIRD THURSDAY ARTIST WORKSHOP  REUSE COLLAGE WITH MICHAEL ALB
 ERT
DESCRIPTION:THIRD THURSDAY ARTIST WORKSHOP \nREUSE COLLAGE WITH MIC
 HAEL ALBERT\n\nJoin master collage artist Michael Albert for an evenin
 g of art-making at Materials for the Arts. Albert has created hundred
 s of intricate collages made from consumer packaging, old photographs,
  and discarded cardboard. Experience making an art piece that you can 
 take home by creating your own Reuse Collage by repurposing product pa
 ckaging and an array of other materials selected by Albert that will h
 elp inspire and guide your creative process.  \n\nRSVP here\n\nWant t
 o learn more about Michael Albert? Click here. \nMaterials for the A
 rts |  http://www.materialsforthearts.org/\n33-00 Northern Boulevard 
 | Long Island City, NY 11101\n\n\nFor more information visit http://c
 onectom.leimay.org/events/third-thursday-artist-workshop-reuse-collage
 -with-michael-albert
DTSTART;TZID=America/Anguilla:20150115T183000
DTEND;TZID=America/Anguilla:20150115T203000
CATEGORIES:workshop
LOCATION:Material For The Arts
WEBSITE:http://www.materialsforthearts.org/
URL:http://www.materialsforthearts.org/
CONTACT:
ORGANIZER:materials for the arts
ATTACH;FMTTYPE="image/jpeg":http://storage.ning.com/topology/rest/1.0/
 file/get/111739139?profile=original
ATTENDEE;ROLE=REQ-PARTICIPANT;PARTSTAT=ACCEPTED;RSVP=TRUE;CN="Theresa 
 Magario tm":http://conectom.leimay.org/profile/TheresaMagario_tm
END:VEVENT
END:VCALENDAR
