BEGIN:VCALENDAR
PRODID:NingEventWidget-v1
VERSION:2.0
METHOD:PUBLISH
BEGIN:VTIMEZONE
TZID:America/Anguilla
X-LIC-LOCATION:America/Anguilla
BEGIN:STANDARD
TZOFFSETFROM:-0400
TZOFFSETTO:-0400
TZNAME:AST
DTSTART:19700101T000000
END:STANDARD
END:VTIMEZONE
BEGIN:VEVENT
UID:5831649:Event:74908
DTSTAMP:20260424T010601Z
SUMMARY:The People Movers at National Sawdust
DESCRIPTION:Innova Recordings Label Showcase \nNational Sawdust\nMarc
 h 11, 2017 | 10:00 pm\nTICKETS\n\nJoin TPM for an excerpt showing of o
 ur latest work, Glass, as well as an excerpt of HackPolitik. \n\nFor 
 more information visit http://conectom.leimay.org/events/the-people-mo
 vers-at-national-sawdust
DTSTART;TZID=America/Anguilla:20170311T220000
DTEND;TZID=America/Anguilla:20170312T000000
CATEGORIES:performance
LOCATION:National Sawdust
WEBSITE:https://nationalsawdust.org/event/inn-fest-innova-recordings-l
 abel-showcase-2/#toggle-id-1
URL:https://nationalsawdust.org/event/inn-fest-innova-recordings-label
 -showcase-2/#toggle-id-1
CONTACT:
ORGANIZER:Kate Ladenheim/The People Movers
ATTACH;FMTTYPE="image/jpeg":http://storage.ning.com/topology/rest/1.0/
 file/get/111741075?profile=original
ATTENDEE;ROLE=REQ-PARTICIPANT;PARTSTAT=ACCEPTED;RSVP=TRUE;CN="Kate Lad
 enheim":http://conectom.leimay.org/profile/KateLadenheim
END:VEVENT
END:VCALENDAR
