BEGIN:VCALENDAR
PRODID:NingEventWidget-v1
VERSION:2.0
METHOD:PUBLISH
BEGIN:VTIMEZONE
TZID:America/Anguilla
X-LIC-LOCATION:America/Anguilla
BEGIN:STANDARD
TZOFFSETFROM:-0400
TZOFFSETTO:-0400
TZNAME:AST
DTSTART:19700101T000000
END:STANDARD
END:VTIMEZONE
BEGIN:VEVENT
UID:5831649:Event:74902
DTSTAMP:20260424T024047Z
SUMMARY:The Middle Passage
DESCRIPTION:The Vanderbilt Republic × The People Movers proudly prese
 nt The Middle Passage — a four-week performance art narrative in si
 te-specific camera obscura at Open Source Gallery.\n\nThe Middle Passa
 ge is a performance art series curated by George Del Barrio & Kate Lad
 enheim at Open Source, remade as a focused camera obscura with multipl
 e projections of the world outside the galleryas surface-mapped stages
  — upside-down and backwards.\n\nThe obscura presents inside the gal
 lery what is outside of the gallery; our world, and specifically, a ge
 ntrifying Brooklyn block in a neighborhood that is undergoing modern d
 ay colonization. These are the rippling effects of the middle passage:
  cruelty, entitlement, disregard for communities. The obscura presents
  and subverts these images, and makes it clear that they are subject t
 o our own perspective and manipulation. \nThe obscura also represents
  a meeting of white spaces and black spaces; these are brought togethe
 r with the acknowledgement of the faults of white people and the stren
 gth and resiliency of black/POC bodies.\nPerformances in obscura will 
 be staged by daylight every weekend through February 19: \n\n11-12 FE
 BRUARYSame As Sister (S.A.S.) × Intrinsic Grey\nTICKETS\n\n18-19 FEBR
 UARYDances for Solidarity × A Theatre Genesis feat. Chee Malabar\nTic
 kets coming soon. \n\n\nFor more information visit http://conectom.le
 imay.org/events/the-middle-passage
DTSTART;TZID=America/Anguilla:20170211T120000
DTEND;TZID=America/Anguilla:20170219T150000
CATEGORIES:performance, "&", exhibition
LOCATION:Open Source Gallery
WEBSITE:
URL:
CONTACT:
ORGANIZER:Kate Ladenheim/The People Movers x The Vanderbilt Republic
ATTACH;FMTTYPE="image/jpeg":http://storage.ning.com/topology/rest/1.0/
 file/get/111740931?profile=original
ATTENDEE;ROLE=REQ-PARTICIPANT;PARTSTAT=ACCEPTED;RSVP=TRUE;CN="Kate Lad
 enheim":http://conectom.leimay.org/profile/KateLadenheim
END:VEVENT
END:VCALENDAR
