BEGIN:VCALENDAR
PRODID:NingEventWidget-v1
VERSION:2.0
METHOD:PUBLISH
BEGIN:VTIMEZONE
TZID:America/Anguilla
X-LIC-LOCATION:America/Anguilla
BEGIN:STANDARD
TZOFFSETFROM:-0400
TZOFFSETTO:-0400
TZNAME:AST
DTSTART:19700101T000000
END:STANDARD
END:VTIMEZONE
BEGIN:VEVENT
UID:5831649:Event:80106
DTSTAMP:20260419T193535Z
SUMMARY:The IMAGINE Festival: Film, Technology, and the Body in Action
DESCRIPTION:\nThe IMAGINE Festival (IMAGINE) explores relationships be
 tween technology and the human body in action. The festival will inclu
 de a weekend of film screenings, technology-based workshops, dialogue 
 sessions, and installations throughout the Earthdance grounds. \n \n
 \nExperimenting with embodied and ecologically grounded approaches to 
 technology, multidisciplinary artists will present work from their res
 idencies this past Spring and Fall at Earthdance at this 3-day festiv
 al, including films, installations, and immersive experiences.\n\n\nI
 MAGINE is co-presented and co-produced by Earthdance and Dance Films 
 Association. Offered in collaboration with the Northampton Film Festi
 val.\n\nMore info at www.earthdance.net/imagine\n\n\nFor more informa
 tion visit http://conectom.leimay.org/events/the-imagine-festival-film
 -technology-and-the-body-in-action
DTSTART;TZID=America/Anguilla:20170929T170000
DTEND;TZID=America/Anguilla:20171001T150000
CATEGORIES:festival
LOCATION:Earthdance
WEBSITE:http://www.earthdance.net
URL:http://www.earthdance.net
CONTACT:(413) 634 - 5678
ORGANIZER;CN=Earthdance:http://conectom.leimay.org/profile/Earthdance
ATTACH;FMTTYPE="image/jpeg":http://storage.ning.com/topology/rest/1.0/
 file/get/111741804?profile=original
ATTENDEE;ROLE=REQ-PARTICIPANT;PARTSTAT=ACCEPTED;RSVP=TRUE;CN=Earthdanc
 e:http://conectom.leimay.org/profile/Earthdance
END:VEVENT
END:VCALENDAR
