BEGIN:VCALENDAR
PRODID:NingEventWidget-v1
VERSION:2.0
METHOD:PUBLISH
BEGIN:VTIMEZONE
TZID:America/Anguilla
X-LIC-LOCATION:America/Anguilla
BEGIN:STANDARD
TZOFFSETFROM:-0400
TZOFFSETTO:-0400
TZNAME:AST
DTSTART:19700101T000000
END:STANDARD
END:VTIMEZONE
BEGIN:VEVENT
UID:5831649:Event:52802
DTSTAMP:20260424T095928Z
SUMMARY:The Disastrous Tale of Vera & Linus
DESCRIPTION:\"For though the moon is NOT a river it is the mother of a
 ll rivers, and the songs that rivers sing they learned long ago when t
 he moon spoke and went about like you or I, though better.\" The Disas
 trous Tale of Vera & Linus is a playful and haunting book of short sto
 ries and schemes brought to life with a final pop-up performance on Sa
 turday evening (9/20) at Coney Island, Brooklyn. Kipuka Theater’s un
 ique theatrical experience is designed to spin a ripple into the every
 day lives of those who co-inhabit the space with Vera and Linus, and a
 s the sun dips below the horizon, join the fated two as they give them
 selves to the moon one last time. Inspired by the experimental 1975 To
 kyo street performance “Knock” by avant-garde theater troupe Tenjo
  Sajiki, our version will provide a map, schedule and context via text
  message and email. From hidden corners to bustling streets, audiences
  receive the key to the tales and can explore the show anyway they wan
 t. Prices: The “Intimate Track” - $25.00, Individualized and preci
 sely timed text messages will be sent to the audience member to provid
 e instructions, directions and context. The “Panoramic Track” - $
 5.00, Audience members will receive a map and schedule via email prior
  to the performance. Tickets must be purchased in advance at www.kipu
 katheater.com\n\n\n\n\n\nFor more information visit http://conectom.le
 imay.org/events/the-disastrous-tale-of-vera-linus
DTSTART;TZID=America/Anguilla:20140920T190000
DTEND;TZID=America/Anguilla:20140920T200000
CATEGORIES:site-specific, theatre
LOCATION:Coney Island
WEBSITE:http://www.kipukatheater.com
URL:http://www.kipukatheater.com
CONTACT:1-800-838-3006
ORGANIZER:Kipuka Theater
ATTACH;FMTTYPE="image/jpeg":http://storage.ning.com/topology/rest/1.0/
 file/get/111738797?profile=original
ATTENDEE;ROLE=REQ-PARTICIPANT;PARTSTAT=ACCEPTED;RSVP=TRUE;CN="mike dot
 hal":http://conectom.leimay.org/profile/mikedothal
ATTENDEE;ROLE=REQ-PARTICIPANT;PARTSTAT=ACCEPTED;RSVP=TRUE;CN="Andrew V
 alentine":http://conectom.leimay.org/profile/AndrewValentine
END:VEVENT
END:VCALENDAR
