BEGIN:VCALENDAR
PRODID:NingEventWidget-v1
VERSION:2.0
METHOD:PUBLISH
BEGIN:VTIMEZONE
TZID:America/Anguilla
X-LIC-LOCATION:America/Anguilla
BEGIN:STANDARD
TZOFFSETFROM:-0400
TZOFFSETTO:-0400
TZNAME:AST
DTSTART:19700101T000000
END:STANDARD
END:VTIMEZONE
BEGIN:VEVENT
UID:5831649:Event:33833
DTSTAMP:20260419T082138Z
SUMMARY:The Curators' Piece (A Trial Against Art) // Tea Tupajić + Pe
 tra Zanki // COIL Festival
DESCRIPTION:Working in partnership with an international team of curat
 ors, who not only serve as the cast but also as presenters of an inter
 national tour of the work, Tea Tupajić (direction, lighting) and Petr
 a Zanki (dramaturgy, choreography) present The Curators’ Piece (A T
 rial Against Art) as a “trial” against art and its protagonists, 
 challenging the utopian ideal of the responsibility of art to a wider 
 society. Charges are raised against all participants: the artists who 
 create a piece, the curators responsible for presenting the work, and 
 the audience. “Six curators take turn on the bench of the accused a
 nd get to speak in defense of art and try to prove what it is capable 
 of – that a world without art is a dead world – it is convincing.
 Dagens Nyheter\n\nTickets $20. 75 minutesTea Tupajić, Petra Zanki 
 and Florian Malzachar will participate in SPAN on January 15 at 12pm a
 t the COIL HUB.\n\nFor more information visit http://conectom.leimay.o
 rg/events/the-curators-piece-a-trial-against-art-tea-tupajic-petra-zan
 ki-co
DTSTART;TZID=America/Anguilla:20130114T190000
DTEND;TZID=America/Anguilla:20130114T200000
CATEGORIES:theater, "art criticism"
LOCATION:Dixon Place
WEBSITE:http://www.ps122.org/the-curators-piece/
URL:http://www.ps122.org/the-curators-piece/
CONTACT:
ORGANIZER:
ATTACH;FMTTYPE="image/jpeg":http://storage.ning.com/topology/rest/1.0/
 file/get/111735646?profile=original
ATTENDEE;ROLE=REQ-PARTICIPANT;PARTSTAT=ACCEPTED;RSVP=TRUE;CN="Raul Zbe
 ngheci":http://conectom.leimay.org/profile/RaulZbengheci
END:VEVENT
END:VCALENDAR
