BEGIN:VCALENDAR
PRODID:NingEventWidget-v1
VERSION:2.0
METHOD:PUBLISH
BEGIN:VTIMEZONE
TZID:America/Anguilla
X-LIC-LOCATION:America/Anguilla
BEGIN:STANDARD
TZOFFSETFROM:-0400
TZOFFSETTO:-0400
TZNAME:AST
DTSTART:19700101T000000
END:STANDARD
END:VTIMEZONE
BEGIN:VEVENT
UID:5831649:Event:75299
DTSTAMP:20260424T042550Z
SUMMARY:The Apple Boys at The Public Theater
DESCRIPTION:The Apple Boys are making a surprise appearance in the lob
 by of The Public Theater this Saturday at 5:45pm, just before The Mobi
 l Unit performance of 12th Night. Come get free tickets to 12th Night 
 and stay for some barbershop harmonies!!!\n\nFor more information visi
 t http://conectom.leimay.org/events/the-apple-boys-at-the-public-theat
 er
DTSTART;TZID=America/Anguilla:20170506T174500
DTEND;TZID=America/Anguilla:20170506T181500
CATEGORIES:pop, up, performance
LOCATION:The Public Theater Lobby
WEBSITE:https://www.publictheater.org/Programs--Events/Mobile-Unit/
URL:https://www.publictheater.org/Programs--Events/Mobile-Unit/
CONTACT:917 407 0665
ORGANIZER:
ATTACH;FMTTYPE="image/jpeg":http://storage.ning.com/topology/rest/1.0/
 file/get/111741614?profile=original
ATTENDEE;ROLE=REQ-PARTICIPANT;PARTSTAT=ACCEPTED;RSVP=TRUE;CN="Jonothon
  Lyons":http://conectom.leimay.org/profile/JonothonLyons
END:VEVENT
END:VCALENDAR
