BEGIN:VCALENDAR
PRODID:NingEventWidget-v1
VERSION:2.0
METHOD:PUBLISH
BEGIN:VTIMEZONE
TZID:America/Anguilla
X-LIC-LOCATION:America/Anguilla
BEGIN:STANDARD
TZOFFSETFROM:-0400
TZOFFSETTO:-0400
TZNAME:AST
DTSTART:19700101T000000
END:STANDARD
END:VTIMEZONE
BEGIN:VEVENT
UID:5831649:Event:44550
DTSTAMP:20260424T130421Z
SUMMARY:Tennessee Williams' Something Cloudy, Something Clear
DESCRIPTION:Redemption is the goal in a fractured memory play looping 
 onward for 40 years. With sensibility comes closure. Wind up the Victr
 ola and let the story unfold!  G.J. Dowding and Zoë Bennett have crea
 ted a fantasy world divided into two sections: the downstage world of 
 text and human interaction and the juxtaposed upstage world filled wit
 h whimsical expression and beautifully crafted movement. The ethereal
  float amongst the upstage until these characters are called upon to p
 ass through the equator into the downstage to live out their fate as p
 rojected through the eyes of our protagonist, August, vaguely disguise
 d as Tennessee Williams' during the summer of 1940 where the artist wa
 s drafting up his play Battle of Angels under constant pressures for c
 oncession from finicky producers. It was here that August spent a summ
 er with the infamous Kip Kiernan, guarded artfully by his amorous prot
 ector, Clare.   Doom is the underlying theme in this memoir play in w
 hich the writer relays a desire for compassion and redemption.   This
  production premieres at the beautiful gallery setting of the third fl
 oor at The Invsible Dog Art Center in Boerum Hill, Brooklyn on Sunday 
 February 9 at 6pm, with a pre-show gallery setting where audience memb
 ers are encouraged to move throughout the space where the actors are a
 ll posed. There will also be a post-show reception to follow. A $10 do
 nation is suggested and reservations can be made by email to director/
 producer G.J. Dowding at gdowding9@gmail.com\n\nCheck out our official
  Facebook page for our production as we will also be performing in Mar
 ch at The Wild Project and Dixon Place.\nhttps://www.facebook.com/some
 thingcloudysomethingclear\n\nFor more information visit http://conecto
 m.leimay.org/events/tennessee-williams-something-cloudy-something-clea
 r
DTSTART;TZID=America/Anguilla:20140209T180000
DTEND;TZID=America/Anguilla:20140209T194500
CATEGORIES:performance, "(work-in-progress)"
LOCATION:The Invisible Dog Art Center
WEBSITE:http://theinvisibledog.org/something-cloudy-something-clear/
URL:http://theinvisibledog.org/something-cloudy-something-clear/
CONTACT:401-639-1633
ORGANIZER:G.J. Dowding and Zoë Bennett
ATTACH;FMTTYPE="image/jpeg":http://storage.ning.com/topology/rest/1.0/
 file/get/111737624?profile=original
ATTENDEE;ROLE=REQ-PARTICIPANT;PARTSTAT=ACCEPTED;RSVP=TRUE;CN="G.J. Dow
 ding":http://conectom.leimay.org/profile/GJDowding
END:VEVENT
END:VCALENDAR
