BEGIN:VCALENDAR
PRODID:NingEventWidget-v1
VERSION:2.0
METHOD:PUBLISH
BEGIN:VTIMEZONE
TZID:America/Anguilla
X-LIC-LOCATION:America/Anguilla
BEGIN:STANDARD
TZOFFSETFROM:-0400
TZOFFSETTO:-0400
TZNAME:AST
DTSTART:19700101T000000
END:STANDARD
END:VTIMEZONE
BEGIN:VEVENT
UID:5831649:Event:38603
DTSTAMP:20260424T155138Z
SUMMARY:SUSANA REYES -  BUTOH DANCE FROM ECUADOR
DESCRIPTION:FIRST WORKSHOP/RESIDENCE\nBUTOH DANCE FROM THE ANDES\nÂ  B
 Y SUSANA REYES\nCRONOGRAMA\n8H30-12H30Â Â  ENTRENAMIENTO\n12H30-13H30 
 Â REFRIGERIO\n13H30-14H30 Â ACTIVIDADES PARALELASÂ Â Â  Â Â Â Â Â Â Â 
 Â Â Â Â Â Â Â Â Â (PROYECCIONES,Â  CHARLAS,Â Â  TEORIA)\n14H30-16H30 Â
  LABORATORIO, MONTAJE, ETC\nÂ \nACTIVIDADES ESPECIALES\nSABADO 20Â Â  
 DE 15H30Â  - 18H30\nENCUENTRO CON REPRESENTANTES DE LA DANZA Y Â LA SA
 BIDURIA ANCESTRAL DE LA CULTURA ANDINA\nDOMINGO 21Â Â  DE 9H00 -Â  15H
 00\nCONVIVENCIA-LABORATORIO\nDOMINGO 28 Y/O LUNES 29Â Â Â Â  Â Â Â Â Â
  Â Â Â Â Â Â Â Â Â Â Â Â Â Â Â Â Â Â Â Â Â Â Â Â Â Â Â Â Â Â Â Â Â Â Â
  Â Â Â Â Â Â Â Â Â Â Â Â Â Â Â Â Â Â MUESTRA ABIERTA EN EL MARCO DEL\n
 DIA INTERNACIONAL DE LA DANZA\nÂ \nRESIDENCIA\n(PARA LOS PARTICIPANTES
  DE PROVINCIA E INTERNACIONALES)\n-LA CASA DE LA DANZA PROPORCIONA EL 
 ESPACIO FISICO PARA SU ESTADIA.\n-CADA PARTICIPANTE DEBE TRAER SU PROP
 IA BOLSA DE DORMIR Y MATERIALES DE ASEO.\nÂ \nALIMENTACION\n- EL REFRI
 GERIO QUE LA CASA DE LA DANZA PROPORCIONAÂ  ES LO SUFICIENTEMENTE NUTR
 ITIVO PARA QUE LOS TALLERISTAS PUEDAN SOSTENER LA ENERGIA QUE AMERITA 
 ESTE TALLER.\nÂ \n-PARA LOS TALLERISTAS EN RESIDENCIA, LAS OTRAS COMID
 AS PODRAN SER PREPARADAS POR LOS MISMOS EN LA COCINA DE LA CASA O A SU
  VEZ, PUEDEN ADQUIRIRLAS EN RESTAURANTES CERCANOS A LA INSTITUCION.\nÂ
  Â \nÂ \nCOSTO TOTALÂ  DEL TALLERÂ  $200.- (dÃ³lares)Â Â Â Â Â Â Â Â Â
  Â Â Â Â Â Â Â Â Â Â Â Â Â Â Â Â Â  CON RESIDENCIA Â $280.- (dÃ³lares)
 \n\n\nFor more information visit http://conectom.leimay.org/events/sus
 ana-reyes-butoh-dance-from-ecuador
DTSTART;TZID=America/Anguilla:20130415T000000
DTEND;TZID=America/Anguilla:20130429T235900
CATEGORIES:"workshop/residence", butoh, dance, from, the, andes, ecuad
 or
LOCATION:CASA DE LA DANZA    QUITO ECUADOR
WEBSITE:http://www.casadeladanza.org
URL:http://www.casadeladanza.org
CONTACT:593 999240726
ORGANIZER;CN="SUSANA REYES":http://conectom.leimay.org/profile/SUSANAR
 EYES
ATTACH;FMTTYPE="image/jpeg":http://storage.ning.com/topology/rest/1.0/
 file/get/111736195?profile=original
ATTENDEE;ROLE=REQ-PARTICIPANT;PARTSTAT=ACCEPTED;RSVP=TRUE;CN="mike dot
 hal":http://conectom.leimay.org/profile/mikedothal
ATTENDEE;ROLE=REQ-PARTICIPANT;PARTSTAT=ACCEPTED;RSVP=TRUE;CN="SUSANA R
 EYES":http://conectom.leimay.org/profile/SUSANAREYES
END:VEVENT
END:VCALENDAR
