BEGIN:VCALENDAR
PRODID:NingEventWidget-v1
VERSION:2.0
METHOD:PUBLISH
BEGIN:VTIMEZONE
TZID:America/Anguilla
X-LIC-LOCATION:America/Anguilla
BEGIN:STANDARD
TZOFFSETFROM:-0400
TZOFFSETTO:-0400
TZNAME:AST
DTSTART:19700101T000000
END:STANDARD
END:VTIMEZONE
BEGIN:VEVENT
UID:5831649:Event:34110
DTSTAMP:20260419T114256Z
SUMMARY:Super Nature // The BodyCartography Project & Zeena Parkins
DESCRIPTION:Born out of the restless imaginations of Olive Bieringa & 
 Otto Ramstad, this radical ecological melodrama is replete with artifi
 ce and animal appetites. The dance/performance/installation duo engage
 s the wild and civilized aspects of human nature with idiosyncratic mo
 vement drawn from bodily impulses and social interactions. Bessie Awar
 d–winning composer Zeena Parkins performs a live score within a scen
 ic installation by visual artist Emmett Ramstad.\n\n\nFor more informa
 tion visit http://conectom.leimay.org/events/super-nature-the-bodycart
 ography-project-zeena-parkins
DTSTART;TZID=America/Anguilla:20130114T203000
DTEND;TZID=America/Anguilla:20130114T214500
CATEGORIES:"dance theater", "nature theater", realness
LOCATION:Abrons Arts Center
WEBSITE:http://www.ps122.org/supernature/
URL:http://www.ps122.org/supernature/
CONTACT:
ORGANIZER:
ATTACH;FMTTYPE="image/jpeg":http://storage.ning.com/topology/rest/1.0/
 file/get/111735775?profile=original
ATTENDEE;ROLE=REQ-PARTICIPANT;PARTSTAT=ACCEPTED;RSVP=TRUE;CN="Raul Zbe
 ngheci":http://conectom.leimay.org/profile/RaulZbengheci
END:VEVENT
END:VCALENDAR
