BEGIN:VCALENDAR
PRODID:NingEventWidget-v1
VERSION:2.0
METHOD:PUBLISH
BEGIN:VTIMEZONE
TZID:America/Anguilla
X-LIC-LOCATION:America/Anguilla
BEGIN:STANDARD
TZOFFSETFROM:-0400
TZOFFSETTO:-0400
TZNAME:AST
DTSTART:19700101T000000
END:STANDARD
END:VTIMEZONE
BEGIN:VEVENT
UID:5831649:Event:80109
DTSTAMP:20260419T144502Z
SUMMARY:Sunday Salon with CPR Artists-in-Residence
DESCRIPTION:\nSunday Salons are a new series of gatherings featurin
 g the work, research materials, and ephemera of CPR’s Artists-in-
 Residence. Free and open to the public, join us for an afternoon of c
 onversation and mingling punctuated by performances and artist interve
 ntions. This month, witness work by Anna Sperber, Abigail Levine, Mor
 iah Evans, and Gwen Welliver with Stuart Singer.\n\nDoors and Galler
 y Open at 2pm\n2:30pm: Moriah Evans in Theater\n3pm: Abigail Levin
 e in Gallery\n3:30pm: Anna Sperber in Theater\n4pm: Abigail Levi
 ne in Gallery\n4:30pm: Gwen Welliver with Stuart Singer in Theate
 r\n5pm: Open Gallery\n \n \n\nFor more information visit http://con
 ectom.leimay.org/events/sunday-salon-with-cpr-artists-in-residence
DTSTART;TZID=America/Anguilla:20170924T140000
DTEND;TZID=America/Anguilla:20170924T180000
CATEGORIES:performance
LOCATION:Center for Performance Research
WEBSITE:http://www.cprnyc.org/events/sunday-salon-with-cpr-artists-in-
 residence/
URL:http://www.cprnyc.org/events/sunday-salon-with-cpr-artists-in-resi
 dence/
CONTACT:
ORGANIZER;CN="Center for Performance Research":http://conectom.leimay.
 org/profile/CenterforPerformanceResearch
ATTACH;FMTTYPE="image/jpeg":http://storage.ning.com/topology/rest/1.0/
 file/get/111741802?profile=original
ATTENDEE;ROLE=REQ-PARTICIPANT;PARTSTAT=ACCEPTED;RSVP=TRUE;CN="Center f
 or Performance Research":http://conectom.leimay.org/profile/CenterforP
 erformanceResearch
END:VEVENT
END:VCALENDAR
