BEGIN:VCALENDAR
PRODID:NingEventWidget-v1
VERSION:2.0
METHOD:PUBLISH
BEGIN:VTIMEZONE
TZID:America/Anguilla
X-LIC-LOCATION:America/Anguilla
BEGIN:STANDARD
TZOFFSETFROM:-0400
TZOFFSETTO:-0400
TZNAME:AST
DTSTART:19700101T000000
END:STANDARD
END:VTIMEZONE
BEGIN:VEVENT
UID:5831649:Event:27736
DTSTAMP:20260419T224501Z
SUMMARY:SU-EN BUTOH COMPANY and ZENDORA DANCE COMPANY
DESCRIPTION:\n\nFor more information visit http://conectom.leimay.org/
 events/su-en-butoh-company-and-zendora-dance-company
DTSTART;TZID=America/Anguilla:20121103T200000
DTEND;TZID=America/Anguilla:20121104T150000
CATEGORIES:dance
LOCATION:Theater for the New City
WEBSITE:
URL:
CONTACT:212-254-1109
ORGANIZER;CN="Nancy Zendora":http://conectom.leimay.org/profile/NancyZ
 endora
ATTACH;FMTTYPE="image/jpeg":http://storage.ning.com/topology/rest/1.0/
 file/get/111734572?profile=original
ATTENDEE;ROLE=REQ-PARTICIPANT;PARTSTAT=ACCEPTED;RSVP=TRUE;CN="Nancy Ze
 ndora":http://conectom.leimay.org/profile/NancyZendora
END:VEVENT
END:VCALENDAR
