BEGIN:VCALENDAR
PRODID:NingEventWidget-v1
VERSION:2.0
METHOD:PUBLISH
BEGIN:VTIMEZONE
TZID:America/Anguilla
X-LIC-LOCATION:America/Anguilla
BEGIN:STANDARD
TZOFFSETFROM:-0400
TZOFFSETTO:-0400
TZNAME:AST
DTSTART:19700101T000000
END:STANDARD
END:VTIMEZONE
BEGIN:VEVENT
UID:5831649:Event:53216
DTSTAMP:20260419T155404Z
SUMMARY:SPOILED
DESCRIPTION:SPOILED is a solo piece, performed by Elizabeth Hess. Its 
 subject matter explores violence against women in India and the USA ta
 king the male point of view.\nIt is disturbing, moving, rousing, impor
 tant.\nTalkback moderated by Katrin Hilbe following reading.\n \n\nFo
 r more information visit http://conectom.leimay.org/events/spoiled
DTSTART;TZID=America/Anguilla:20140926T190000
DTEND;TZID=America/Anguilla:20140926T210000
CATEGORIES:benefit, reading
LOCATION:TheaterLab
WEBSITE:http://www.theaterlabnyc.com
URL:http://www.theaterlabnyc.com
CONTACT:917-496 8795
ORGANIZER;CN="Katrin Hilbe":http://conectom.leimay.org/profile/KatrinH
 ilbe
ATTACH;FMTTYPE="image/jpeg":http://storage.ning.com/topology/rest/1.0/
 file/get/111738960?profile=original
ATTENDEE;ROLE=REQ-PARTICIPANT;PARTSTAT=ACCEPTED;RSVP=TRUE;CN="Katrin H
 ilbe":http://conectom.leimay.org/profile/KatrinHilbe
END:VEVENT
END:VCALENDAR
