BEGIN:VCALENDAR
PRODID:NingEventWidget-v1
VERSION:2.0
METHOD:PUBLISH
BEGIN:VTIMEZONE
TZID:America/Anguilla
X-LIC-LOCATION:America/Anguilla
BEGIN:STANDARD
TZOFFSETFROM:-0400
TZOFFSETTO:-0400
TZNAME:AST
DTSTART:19700101T000000
END:STANDARD
END:VTIMEZONE
BEGIN:VEVENT
UID:5831649:Event:75071
DTSTAMP:20260419T111322Z
SUMMARY:SPLINE
DESCRIPTION:MICHIYAYA Dance will premiere Spline, their second eveni
 ng-length work featuring the full company with live music by composer 
 and musician, Jordan Chiolis. \n\n\nSpline unfolds the exploration o
 f one's physical and psychological boundaries. MICHIYAYA Dance discove
 rs the systems in which we create and are created for us to conform to
  certain parameters. Industrial, biological, and interpersonal systems
  are challenged through a variety of narratives. Ideas of mental disor
 ders, individuality, and coexistence are investigated. Incorporated in
 to Spline's concept will be the life and physical voice of Co-Artistic
  Director Mitsuko Verdery's grandfather, Pampa. Pampa's life experienc
 es, and relationships serve as an inspiration for the work. The word s
 pline is defined as a key fitting into the grooves of a wheel, integra
 lly with the shaft to allow movement of the wheel. The definition of s
 pline is a great impetus for the work as it explains Clarke and Verder
 y's interest in the source and function of a problem, the physical and
  psychological boundaries involved in life. \n\nFor more information 
 visit http://conectom.leimay.org/events/spline
DTSTART;TZID=America/Anguilla:20170325T193000
DTEND;TZID=America/Anguilla:20170326T193000
CATEGORIES:performance
LOCATION:Manhattan Movement & Arts Center
WEBSITE:http://www.manhattanmovement.com/
URL:http://www.manhattanmovement.com/
CONTACT:
ORGANIZER:MICHIYAYA Dance
ATTACH;FMTTYPE="image/jpeg":http://storage.ning.com/topology/rest/1.0/
 file/get/111741133?profile=original
ATTENDEE;ROLE=REQ-PARTICIPANT;PARTSTAT=ACCEPTED;RSVP=TRUE;CN="MICHIYAY
 A Dance":http://conectom.leimay.org/profile/michiyayadance
END:VEVENT
END:VCALENDAR
