BEGIN:VCALENDAR
PRODID:NingEventWidget-v1
VERSION:2.0
METHOD:PUBLISH
BEGIN:VTIMEZONE
TZID:America/Anguilla
X-LIC-LOCATION:America/Anguilla
BEGIN:STANDARD
TZOFFSETFROM:-0400
TZOFFSETTO:-0400
TZNAME:AST
DTSTART:19700101T000000
END:STANDARD
END:VTIMEZONE
BEGIN:VEVENT
UID:5831649:Event:35658
DTSTAMP:20260422T131118Z
SUMMARY:Spectral // Vangeline Theater
DESCRIPTION:In their new work, SPECTRAL, The Vangeline Theater fuses 
 the post-apocalyptic vision of Butoh (the Japanese dance form that dev
 eloped after Hiroshima) with the near-cinematic aesthetic of 21st Cent
 ury science-fiction noir. Since its inception in 2002, the Vangeline T
 heater has received numerous positive reviews in publications such as 
 the New York Times, LA Times, and LA Weekly. Time Out Chicago recently
  names the Vangeline Theater “one of the best Dance Visits of 2011.
  \n\nFor more information visit http://conectom.leimay.org/events/s
 pectral-vangeline-theater-1
DTSTART;TZID=America/Anguilla:20130202T200000
DTEND;TZID=America/Anguilla:20130202T220000
CATEGORIES:"butoh installation performance"
LOCATION:Triskelion Arts
WEBSITE:http://www.triskelionarts.org/vangeline-theater
URL:http://www.triskelionarts.org/vangeline-theater
CONTACT:
ORGANIZER:
ATTACH;FMTTYPE="image/jpeg":http://storage.ning.com/topology/rest/1.0/
 file/get/111735755?profile=original
ATTENDEE;ROLE=REQ-PARTICIPANT;PARTSTAT=ACCEPTED;RSVP=TRUE;CN="Raul Zbe
 ngheci":http://conectom.leimay.org/profile/RaulZbengheci
END:VEVENT
END:VCALENDAR
