BEGIN:VCALENDAR
PRODID:NingEventWidget-v1
VERSION:2.0
METHOD:PUBLISH
BEGIN:VTIMEZONE
TZID:America/Anguilla
X-LIC-LOCATION:America/Anguilla
BEGIN:STANDARD
TZOFFSETFROM:-0400
TZOFFSETTO:-0400
TZNAME:AST
DTSTART:19700101T000000
END:STANDARD
END:VTIMEZONE
BEGIN:VEVENT
UID:5831649:Event:38743
DTSTAMP:20260424T100009Z
SUMMARY:SOAK // Sabrina Lastman  and Samita Sinha
DESCRIPTION:‘El Duende’ + Dialogues / Sabrina LastmanMusic selecti
 ons from Sabrina’s original performances An Encounter with ‘El Due
 nde’ & Dialogues of SilenceAn Encounter with ‘El Duende’Federico
  Garcia Lorca’s eerily passionate world comes to life through a reim
 agination of his written & visual artistry through voice, recorded tra
 cks, electronics, bowed psaltery, megaphone and visuals.Dialogues of S
 ilenceA music performance based on the poetry and inner world percepti
 on of Uruguayan poet Idea Vilariño. In this performance, Vilariño’
 s existentialist poetry meets music & sounds that create a world beyon
 d the limits of the text’s power. Dialogues of Silence consists of a
  solo vocal artist who translates the poetic atmosphereinto a movement
  and sound experience.\n\nCIPHER / Samita SinhaA solo performance that
  explores Sinha’s practice of “bodysound”— an investigation of
  voice that uniteslanguage, gesture and space into potent articulation
 s, from raw utterance to speech to song. This is an excerpt of her ful
 llength piece that will premiere in Fall 2014.\n\nFor more information
  visit http://conectom.leimay.org/events/soak-sabrina-lastman-and-sami
 ta-sinha
DTSTART;TZID=America/Anguilla:20130612T200000
DTEND;TZID=America/Anguilla:20130612T211500
CATEGORIES:"sound performance", "body sound voice"
LOCATION:CAVE
WEBSITE:http://www.cavearts.org
URL:http://www.cavearts.org
CONTACT:3478384677
ORGANIZER:
ATTACH;FMTTYPE="image/jpeg":http://storage.ning.com/topology/rest/1.0/
 file/get/111736313?profile=original
ATTENDEE;ROLE=REQ-PARTICIPANT;PARTSTAT=ACCEPTED;RSVP=TRUE;CN="Raul Zbe
 ngheci":http://conectom.leimay.org/profile/RaulZbengheci
END:VEVENT
END:VCALENDAR
