BEGIN:VCALENDAR
PRODID:NingEventWidget-v1
VERSION:2.0
METHOD:PUBLISH
BEGIN:VTIMEZONE
TZID:America/Anguilla
X-LIC-LOCATION:America/Anguilla
BEGIN:STANDARD
TZOFFSETFROM:-0400
TZOFFSETTO:-0400
TZNAME:AST
DTSTART:19700101T000000
END:STANDARD
END:VTIMEZONE
BEGIN:VEVENT
UID:5831649:Event:38633
DTSTAMP:20260424T114022Z
SUMMARY:SOAK // Polina Klimovitskaya,  Theresa Magario,  James Gardell
 a
DESCRIPTION:I Take Good Care of My Corpse (Part I) AnOld Poem Upon Bec
 kett’s Rockaby (Part II) /Polina Klimovitskaya - Terra IncognitaThe 
 busy flies in the existential vacuum of modern life; a funeral party o
 f happy corpses. Light suspended on a thread; whispers of identity on 
 the threshold.\n\ngrindfilter / Theresa MagarioWhat was necessary to a
  mystic in the Ottoman Empire is as necessary to the software develope
 r in San Jose.\n\nunspeakable daisies / James Gardellaunspeakable dais
 ies is about queer embodiment. Dancers challenge and expand the ways t
 hey relate to themselves and each other through movement.\n\nFor more 
 information visit http://conectom.leimay.org/events/soak-polina-klimov
 itskaya-theresa-magario-james-gardella
DTSTART;TZID=America/Anguilla:20130608T200000
DTEND;TZID=America/Anguilla:20130608T211500
CATEGORIES:"performance art", "experimental theater", "terra incognita
 ", dance
LOCATION:CAVE
WEBSITE:http://www.cavearts.org
URL:http://www.cavearts.org
CONTACT:3478384677
ORGANIZER:
ATTACH;FMTTYPE="image/jpeg":http://storage.ning.com/topology/rest/1.0/
 file/get/111736201?profile=original
ATTENDEE;ROLE=REQ-PARTICIPANT;PARTSTAT=ACCEPTED;RSVP=TRUE;CN="Raul Zbe
 ngheci":http://conectom.leimay.org/profile/RaulZbengheci
END:VEVENT
END:VCALENDAR
