BEGIN:VCALENDAR
PRODID:NingEventWidget-v1
VERSION:2.0
METHOD:PUBLISH
BEGIN:VTIMEZONE
TZID:America/Anguilla
X-LIC-LOCATION:America/Anguilla
BEGIN:STANDARD
TZOFFSETFROM:-0400
TZOFFSETTO:-0400
TZNAME:AST
DTSTART:19700101T000000
END:STANDARD
END:VTIMEZONE
BEGIN:VEVENT
UID:5831649:Event:38571
DTSTAMP:20260424T131352Z
SUMMARY:SOAK // Moeno Wakamatsu / Study of a Weak Body
DESCRIPTION:Godly Matter, Earthly Will A duality exists between our  â
 €˜body of matterâ€™ and â€˜body  of willâ€™. Matter is true to itâ€™s 
  own properties, and to the  desires of time and space. If we  identif
 y with â€˜matter,â€™ our â€˜willâ€™  contradicts the nature of matter 
  and yet life is found precisely in  this contradiction. Through a wea
 kened body  diminished to simple will,  Moeno Wakamatsu attempts  to o
 bserve if living matter can  come close to manifesting the  desires of
  time and space.\n\nFor more information visit http://conectom.leimay.
 org/events/soak-moeno-wakamatsu-study-of-a-weakened-body
DTSTART;TZID=America/Anguilla:20130601T200000
DTEND;TZID=America/Anguilla:20130601T211500
CATEGORIES:"butoh performance"
LOCATION:CAVE
WEBSITE:http://www.cavearts.org
URL:http://www.cavearts.org
CONTACT:3478384677
ORGANIZER:
ATTACH;FMTTYPE="image/jpeg":http://storage.ning.com/topology/rest/1.0/
 file/get/111736292?profile=original
ATTENDEE;ROLE=REQ-PARTICIPANT;PARTSTAT=ACCEPTED;RSVP=TRUE;CN="Raul Zbe
 ngheci":http://conectom.leimay.org/profile/RaulZbengheci
END:VEVENT
END:VCALENDAR
