BEGIN:VCALENDAR
PRODID:NingEventWidget-v1
VERSION:2.0
METHOD:PUBLISH
BEGIN:VTIMEZONE
TZID:America/Anguilla
X-LIC-LOCATION:America/Anguilla
BEGIN:STANDARD
TZOFFSETFROM:-0400
TZOFFSETTO:-0400
TZNAME:AST
DTSTART:19700101T000000
END:STANDARD
END:VTIMEZONE
BEGIN:VEVENT
UID:5831649:Event:38739
DTSTAMP:20260419T085515Z
SUMMARY:SOAK // Jeremy Goren, Alive Wire,  Alex Franz Zehethbauer
DESCRIPTION:Wistaria / Jeremy GorenPart of an ongoing investigation, W
 istaria moves in on a dark patch on the canvas of Goren’s 2012 piece
 , You Will Make A Difference, exploring the United States’ transitio
 nal moments and the currents obscured beneath the mainstream, asking: 
 How did we get here? Where are we? What’s next?\n\nAnd We Will Never
  Speak of This Again / Alive WireA staged encounter between audience, 
 Alive Wire’s ensemble and poetry. Based on the new poem of the same 
 title by language poet Michael Gottlieb.\n\nThe Joy of Cooking with Sy
 bil / Alex Franz ZehethbauerThe Joy of Cooking with Sybil is a live co
 oking show in which four performers, each named Sybil, experience the 
 joy of cooking as they ascend into total madness.\n\nFor more informat
 ion visit http://conectom.leimay.org/events/soak-jeremy-goren-alive-wi
 re-alex-franz-zehethbauer
DTSTART;TZID=America/Anguilla:20130606T200000
DTEND;TZID=America/Anguilla:20130606T211500
CATEGORIES:"experimental theater", "live cooking", "black studio artis
 ts"
LOCATION:CAVE
WEBSITE:http://www.cavearts.org
URL:http://www.cavearts.org
CONTACT:3478384677
ORGANIZER:
ATTACH;FMTTYPE="image/jpeg":http://storage.ning.com/topology/rest/1.0/
 file/get/111736303?profile=original
ATTENDEE;ROLE=REQ-PARTICIPANT;PARTSTAT=ACCEPTED;RSVP=TRUE;CN="Raul Zbe
 ngheci":http://conectom.leimay.org/profile/RaulZbengheci
END:VEVENT
END:VCALENDAR
