BEGIN:VCALENDAR
PRODID:NingEventWidget-v1
VERSION:2.0
METHOD:PUBLISH
BEGIN:VTIMEZONE
TZID:America/Anguilla
X-LIC-LOCATION:America/Anguilla
BEGIN:STANDARD
TZOFFSETFROM:-0400
TZOFFSETTO:-0400
TZNAME:AST
DTSTART:19700101T000000
END:STANDARD
END:VTIMEZONE
BEGIN:VEVENT
UID:5831649:Event:38747
DTSTAMP:20260424T113224Z
SUMMARY:SOAK // Ben Spatz / The Rite of the Butcher
DESCRIPTION:THE RITE OF THE BUTCHER is a visceral fable about the powe
 r of fantasy, as told by the Butcher a refugee, criminal and shaman â€
 ” through poetry, martial dance, and folk songs in an invented languag
 e. A fictional memoir, a parable, and a warning, this interdisciplinar
 y monologue combines abstract imagery with highly crafted physical and
  vocal performance to engage the bitingly contemporary themes of war a
 nd loss, violence and mourning.This performance takes place at the Lin
 colnCenterâ€™s David Rubenstein Atrium on Broadway between 63rd and 64
 th streets.\n\nFor more information visit http://conectom.leimay.org/e
 vents/soak-ben-spatz-the-rite-of-the-butcher
DTSTART;TZID=America/Anguilla:20130613T200000
DTEND;TZID=America/Anguilla:20130613T211500
CATEGORIES:"experimental theater", "solo performance", scary
LOCATION:David Rubenstein Atrium at Lincoln Center
WEBSITE:http://www.cavearts.org
URL:http://www.cavearts.org
CONTACT:3478384677
ORGANIZER:
ATTACH;FMTTYPE="image/jpeg":http://storage.ning.com/topology/rest/1.0/
 file/get/111736547?profile=original
ATTENDEE;ROLE=REQ-PARTICIPANT;PARTSTAT=ACCEPTED;RSVP=TRUE;CN="Raul Zbe
 ngheci":http://conectom.leimay.org/profile/RaulZbengheci
END:VEVENT
END:VCALENDAR
