BEGIN:VCALENDAR
PRODID:NingEventWidget-v1
VERSION:2.0
METHOD:PUBLISH
BEGIN:VTIMEZONE
TZID:America/Anguilla
X-LIC-LOCATION:America/Anguilla
BEGIN:STANDARD
TZOFFSETFROM:-0400
TZOFFSETTO:-0400
TZNAME:AST
DTSTART:19700101T000000
END:STANDARD
END:VTIMEZONE
BEGIN:VEVENT
UID:5831649:Event:45593
DTSTAMP:20260423T215712Z
SUMMARY:SOAK: A torrent of AcTS and Training molded by LEIMAY at CAVE
DESCRIPTION:It is our pleasure to announce SOAK!\n\nSOAK is a festival
  presenting a torrent of acts and workshops in theater, butoh, dance, 
 and performance art every spring over four weeks in May and June.  SO
 AK is molded by LEIMAY, the interdisciplinary ensemble and producing o
 rganization behind the acclaimed New York Butoh Festival.  SOAK takes
  place at LEIMAY’s home, CAVE, in Williamsburg, Brooklyn.\nSOAK broa
 dens the perceptions of our artists and audiences with work that is ex
 perimental, rigorous, and thought-provoking. The festival showcases fi
 nished and in-progress work by international, local and resident artis
 ts and blends them together in a concoction  that inspires audiences,
  fuels the artists, and stimulates the community surrounding LEIMAY’
 s activities.\n\nSOAK takes place starting May 21th and ends on June 2
 9th with a closing celebration block party coinciding with the city-wi
 de festival of Make Music New York. Visit www.leimay.org for details.\
 n\n\n\n \n\nFor more information visit http://conectom.leimay.org/eve
 nts/soak-a-torrent-of-acts-and-training-molded-by-leimay-at-cave
DTSTART;TZID=America/Anguilla:20140521T180000
DTEND;TZID=America/Anguilla:20140630T190000
CATEGORIES:festival
LOCATION:CAVE home of LEIMAY
WEBSITE:http://leimaymain.cavearts.org/?page_id=2104
URL:http://leimaymain.cavearts.org/?page_id=2104
CONTACT:
ORGANIZER:LEIMAY
ATTACH;FMTTYPE="image/jpeg":http://storage.ning.com/topology/rest/1.0/
 file/get/111738042?profile=original
ATTENDEE;ROLE=REQ-PARTICIPANT;PARTSTAT=ACCEPTED;RSVP=TRUE;CN=LEIMAY:ht
 tp://conectom.leimay.org/profile/LEIMAY_CAVE
ATTENDEE;ROLE=REQ-PARTICIPANT;PARTSTAT=ACCEPTED;RSVP=TRUE;CN="Laura Ne
 ese":http://conectom.leimay.org/profile/LauraNeese
ATTENDEE;ROLE=REQ-PARTICIPANT;PARTSTAT=ACCEPTED;RSVP=TRUE;CN="Rishika 
 Mehrishi":http://conectom.leimay.org/profile/RishikaMehrishi
ATTENDEE;ROLE=REQ-PARTICIPANT;PARTSTAT=ACCEPTED;RSVP=TRUE;CN="Carlye E
 ckert":http://conectom.leimay.org/profile/CarlyeEckert
ATTENDEE;ROLE=REQ-PARTICIPANT;PARTSTAT=ACCEPTED;RSVP=TRUE;CN="Andressa
  Furletti":http://conectom.leimay.org/profile/AndressaFurletti
ATTENDEE;ROLE=REQ-PARTICIPANT;PARTSTAT=ACCEPTED;RSVP=TRUE;CN="Raul Zbe
 ngheci":http://conectom.leimay.org/profile/RaulZbengheci
ATTENDEE;ROLE=REQ-PARTICIPANT;PARTSTAT=ACCEPTED;RSVP=TRUE;CN="Irene Si
 egel":http://conectom.leimay.org/profile/IreneSiegel
ATTENDEE;ROLE=REQ-PARTICIPANT;PARTSTAT=TENTATIVE;RSVP=TRUE;CN="Lara Mo
 nes":http://conectom.leimay.org/profile/LaraMones
END:VEVENT
END:VCALENDAR
