BEGIN:VCALENDAR
PRODID:NingEventWidget-v1
VERSION:2.0
METHOD:PUBLISH
BEGIN:VTIMEZONE
TZID:America/Anguilla
X-LIC-LOCATION:America/Anguilla
BEGIN:STANDARD
TZOFFSETFROM:-0400
TZOFFSETTO:-0400
TZNAME:AST
DTSTART:19700101T000000
END:STANDARD
END:VTIMEZONE
BEGIN:VEVENT
UID:5831649:Event:75553
DTSTAMP:20260424T041328Z
SUMMARY:SOAK 2017: A Cascade of AcTS and Training
DESCRIPTION:SOAK - A cascade of AcTS and Training molded by LEIMAY at 
 CAVE\n\nMay 23 â€“ June 18, 2017\n\nÂ \n\nSOAK is a festival presentin
 g a cascade of AcTS and training in theater, butoh, dance, music, and 
 performance art every spring over four weeks in May and June.\n Â \n\n
 SOAK is molded by LEIMAY, the interdisciplinary ensemble and producing
  organization behind the acclaimed New York Butoh Festival.Â \n\nSOAK 
 broadens the perceptions of our artists and audiences with work that i
 s experimental, rigorous, and thought-provoking. The festival showcase
 s finished and in-progress work by international, local, and fellow ar
 tists, and blends them together in a concoction that inspires audience
 s, fuels the artists, and stimulates the community surrounding LEIMAYâ
 €™s activities.\n\n\nFor more information visit http://conectom.leimay
 .org/events/soak-2017
DTSTART;TZID=America/Anguilla:20170523T180000
DTEND;TZID=America/Anguilla:20170618T180000
CATEGORIES:festival
LOCATION:LEIMAY
WEBSITE:http://www.leimay.org
URL:http://www.leimay.org
CONTACT:
ORGANIZER;CN="Drew Weinstein":http://conectom.leimay.org/profile/DrewW
 einstein
ATTACH;FMTTYPE="image/jpeg":http://storage.ning.com/topology/rest/1.0/
 file/get/111741623?profile=original
ATTENDEE;ROLE=REQ-PARTICIPANT;PARTSTAT=ACCEPTED;RSVP=TRUE;CN="Drew Wei
 nstein":http://conectom.leimay.org/profile/DrewWeinstein
END:VEVENT
END:VCALENDAR
