BEGIN:VCALENDAR
PRODID:NingEventWidget-v1
VERSION:2.0
METHOD:PUBLISH
BEGIN:VTIMEZONE
TZID:America/Anguilla
X-LIC-LOCATION:America/Anguilla
BEGIN:STANDARD
TZOFFSETFROM:-0400
TZOFFSETTO:-0400
TZNAME:AST
DTSTART:19700101T000000
END:STANDARD
END:VTIMEZONE
BEGIN:VEVENT
UID:5831649:Event:75529
DTSTAMP:20260424T054010Z
SUMMARY:SOAK 2017: LEIMAY Friends and Fellows Showcase: Nicolas Noreñ
 a + Michelle Uranowitz + Timothy Scott, Terra Incognita, Vertical Play
 er Repertory
DESCRIPTION:Join us for SOAK 2017's LEIMAY Friends and Fellows Showcas
 e, featuring Nicolas Noreña + Michelle Uranowitz + Timothy Scott, Ter
 ra Incognita, and Vertical Player Repertory\n\n \n\nNicolas Noreña, 
 Michelle Uranowitz, & Timothy Scott: This Seems Like a Place for Every
 day Objects\n\nThis Seems Like a Place for Everyday Objects is set in 
 the privacy of the Artist’s imagination den. It is a tiny, quiet exp
 loration of the artist’s down-time. The piece reflects on the Artist
 ’s relationship with everyday objects that seem to hold genies, spir
 its, demons and characters that compose the Artist’s pre-creative li
 fe.\n\n \n\nTerra Incognita: Apartment 34D\n\nApartment 34D depicts t
 he morning routine of a young woman slowly waking up from a nightmare 
 of being buried in sand to undergo strange experiences within her apar
 tment.\n\n \n\nVertical Player Repertory: Phaedra\n\nPhaedra is a sta
 ged performance of Britten's solo cantata for mezzo soprano designed a
 nd performed by Judith Barnes, arranged for and accompanied by chamber
  ensemble.\n\n \n\nSaturday, June 10th, 8 pm\n\nSpace is limited. Onl
 ine RSVP required.\n\nFollowed by a post-show discussion.\n\n\nFor mor
 e information visit http://conectom.leimay.org/events/soak-2017-nicola
 s-norena-terra-incognita-vertical-player-repertor
DTSTART;TZID=America/Anguilla:20170610T200000
DTEND;TZID=America/Anguilla:20170610T220000
CATEGORIES:showcase
LOCATION:334 S 5th St
WEBSITE:http://leimaymain.cavearts.org/?p=5386
URL:http://leimaymain.cavearts.org/?p=5386
CONTACT:347.838.4677
ORGANIZER;CN="Drew Weinstein":http://conectom.leimay.org/profile/DrewW
 einstein
ATTACH;FMTTYPE="image/jpeg":http://storage.ning.com/topology/rest/1.0/
 file/get/111741129?profile=original
ATTENDEE;ROLE=REQ-PARTICIPANT;PARTSTAT=ACCEPTED;RSVP=TRUE;CN="Drew Wei
 nstein":http://conectom.leimay.org/profile/DrewWeinstein
ATTENDEE;ROLE=REQ-PARTICIPANT;PARTSTAT=ACCEPTED;RSVP=TRUE;CN="Maddie W
 inchester":http://conectom.leimay.org/profile/MaddieWinchester
END:VEVENT
END:VCALENDAR
