BEGIN:VCALENDAR
PRODID:NingEventWidget-v1
VERSION:2.0
METHOD:PUBLISH
BEGIN:VTIMEZONE
TZID:America/Anguilla
X-LIC-LOCATION:America/Anguilla
BEGIN:STANDARD
TZOFFSETFROM:-0400
TZOFFSETTO:-0400
TZNAME:AST
DTSTART:19700101T000000
END:STANDARD
END:VTIMEZONE
BEGIN:VEVENT
UID:5831649:Event:75340
DTSTAMP:20260424T070435Z
SUMMARY:SOAK 2017: LEIMAY Friends and Fellows Showcase: Lucy Kerr, Jer
 emy Pheiffer, Drew Weinstein
DESCRIPTION:Join us for SOAK 2017's LEIMAY Friends and Fellow Showcase
  featuring Lucy Kerr, Jeremy Pheiffer, and Drew Weinstein.\n\n \n\nLu
 cy Kerr: you are nothing/you were all i had\n\nyou are nothing/you wer
 e all i had is a work-in-progress film and performance piece that expl
 ores a space through which one’s perceptions of time and memory are 
 shaped and suspended by obsession.\n\n \n\nJeremy Pheiffer: Results '
 17\n\nResults ‘17 is a performance that challenges personal boundari
 es of discomfort and endurance to exist ecstatically for your viewing 
 pleasure.\n\n \n\nDrew Weinstein: Synthesis\n\nSynthesis is a work-in
 -progress performance which merges physical and musical languages to e
 xamine how human beings relate to their surroundings.\n\n \n\nThursda
 y, June 8, 8pm\n\nSpace is limited. Online RSVP required.\n\nFollowed 
 by a post-show conversation.\n\n\nFor more information visit http://co
 nectom.leimay.org/events/soak-2017-lucy-kerr-jeremy-pheiffer-drew-wein
 stein
DTSTART;TZID=America/Anguilla:20170608T200000
DTEND;TZID=America/Anguilla:20170608T220000
CATEGORIES:showcase
LOCATION:334 S 5th St
WEBSITE:http://leimaymain.cavearts.org/?p=5367
URL:http://leimaymain.cavearts.org/?p=5367
CONTACT:347.838.4677
ORGANIZER;CN="Drew Weinstein":http://conectom.leimay.org/profile/DrewW
 einstein
ATTACH;FMTTYPE="image/jpeg":http://storage.ning.com/topology/rest/1.0/
 file/get/111741450?profile=original
ATTENDEE;ROLE=REQ-PARTICIPANT;PARTSTAT=ACCEPTED;RSVP=TRUE;CN="Drew Wei
 nstein":http://conectom.leimay.org/profile/DrewWeinstein
ATTENDEE;ROLE=REQ-PARTICIPANT;PARTSTAT=ACCEPTED;RSVP=TRUE;CN="Maddie W
 inchester":http://conectom.leimay.org/profile/MaddieWinchester
END:VEVENT
END:VCALENDAR
