BEGIN:VCALENDAR
PRODID:NingEventWidget-v1
VERSION:2.0
METHOD:PUBLISH
BEGIN:VTIMEZONE
TZID:America/Anguilla
X-LIC-LOCATION:America/Anguilla
BEGIN:STANDARD
TZOFFSETFROM:-0400
TZOFFSETTO:-0400
TZNAME:AST
DTSTART:19700101T000000
END:STANDARD
END:VTIMEZONE
BEGIN:VEVENT
UID:5831649:Event:75420
DTSTAMP:20260424T070540Z
SUMMARY:SOAK 2017: LEIMAY Friends and Fellows Showcase: Hee Ran Lee, B
 utch Merigoni, Irena Romendik
DESCRIPTION:Join us for SOAK 2017- LEIMAY Friends and Fellows Showcase
  featuring Hee Ran Lee, Butch Merigoni, and Irena Romendik\n\n \n\nH
 ee Ran Lee: A Humble Action to Feel the Meaninglessness\n\nAt the core
  of A Humble Action to Feel the Meaninglessness is subjective truth th
 at each audience carries out with their participation. Through the per
 formance, audience will consciously respond to their own action of vie
 wing and experience true artistic creation with interrelationships in 
 the active positions with the performers.\n\n \n\nIrena Romendik: The
  Seeing Hand\n\nThe Seeing Hand is an interactive showcase that mixes 
 dance, video, and watercolors to share a process of transmitting live 
 dance performance into physical drawing.\n\n \n\nButch Merigoni: All 
 of It\n\nTwo years ago All Of It was a performance that involved audie
 nce members simultaneously reading from sections of different books, r
 epeating parts until instructed to stop. Assigning a new reader every 
 60 seconds, this verbal layering created a density of fragmented words
  and phrases that would be incrementally built up and broken down over
  the course of the 40 minute performance. Since that time the work has
  expanded into an interdisciplinary performance that focuses more on t
 he openness of space than on the weight of density.\n\n \n\nFriday, J
 une 9th, 8pm\n\nSpace is limited. Online RSVP Required.\n\nFollowed by
  a post-show discussion.\n\n\nFor more information visit http://conect
 om.leimay.org/events/soak-2017-hee-ran-lee-irena-romendik-and-butch-me
 rigoni
DTSTART;TZID=America/Anguilla:20170609T200000
DTEND;TZID=America/Anguilla:20170609T220000
CATEGORIES:showcase
LOCATION:334 S 5th St
WEBSITE:http://leimaymain.cavearts.org/?p=5378
URL:http://leimaymain.cavearts.org/?p=5378
CONTACT:347.838.4677
ORGANIZER;CN="Drew Weinstein":http://conectom.leimay.org/profile/DrewW
 einstein
ATTACH;FMTTYPE="image/jpeg":http://storage.ning.com/topology/rest/1.0/
 file/get/111741115?profile=original
ATTENDEE;ROLE=REQ-PARTICIPANT;PARTSTAT=ACCEPTED;RSVP=TRUE;CN="Drew Wei
 nstein":http://conectom.leimay.org/profile/DrewWeinstein
ATTENDEE;ROLE=REQ-PARTICIPANT;PARTSTAT=ACCEPTED;RSVP=TRUE;CN="Maddie W
 inchester":http://conectom.leimay.org/profile/MaddieWinchester
END:VEVENT
END:VCALENDAR
