BEGIN:VCALENDAR
PRODID:NingEventWidget-v1
VERSION:2.0
METHOD:PUBLISH
BEGIN:VTIMEZONE
TZID:America/Anguilla
X-LIC-LOCATION:America/Anguilla
BEGIN:STANDARD
TZOFFSETFROM:-0400
TZOFFSETTO:-0400
TZNAME:AST
DTSTART:19700101T000000
END:STANDARD
END:VTIMEZONE
BEGIN:VEVENT
UID:5831649:Event:68821
DTSTAMP:20260425T182202Z
SUMMARY:SOAK 2016 LEIMAY LUDUS: Hunting Body Wisdom with Zack Fuller
DESCRIPTION:This workshop is focused on creating possibilities for imp
 rovisation and the development of an omni-centered body. It utilizes e
 lements of Grotowski work and Min Tanaka’s Body Weather workshops. C
 lass begins with a warm-up that is both vigorous and relaxing, moving 
 into focused explorations emphasizing the balance between structure an
 d impulse. The remainder of the lab involves slow movement combined wi
 th partnering exercises, physical actions from daily life, and visuali
 zation as a means of engaging the body’s inner stream. Appropriate f
 or dancers, movers, improvisers, actors, people interested in butoh, o
 r anyone seeking a physical experience. No previous dance training is 
 necessary.\n\nAbout Zack Fuller\nZack Fuller’s dances have been pres
 ented at CAVE’s New York Butoh Festival, Plan B in Tokyo, Mobius in 
 Boston, The Dance Hakushu Festival, Movement Research at Judson Church
 , St. Thomas College in Thrissur (India), and elsewhere. They frequent
 ly involve collaboration with cutting edge musicians such as Keiji Hai
 no, Tatsuya Nakatani, Kat Hernandez, and his longtime collaborator Jon
 athan Vincent. He is strongly influenced by his experience participati
 ng in theatrical research with Ryszard Cieslak, the leading actor of J
 erzy Grotowski’s Polish Laboratory Theater in the late eighties. Fro
 m 1997-2001 he performed throughout Europe, Japan, and the U.S. in wor
 ks by the renowned dancer/farmer Min Tanaka, including the U.S. tour o
 f Poe Project and the European tour of the Goya series.\n\nJune 12, 3p
 m-7pm\nREGISTER\n\nFor more information visit http://conectom.leimay.o
 rg/events/soak-2016-ludus-zack-fuller
DTSTART;TZID=America/Anguilla:20160424T180000
DTEND;TZID=America/Anguilla:20160424T190000
CATEGORIES:"ludus lab", class, workshop
LOCATION:CAVE home of LEIMAY
WEBSITE:http://leimaymain.cavearts.org/?p=4328
URL:http://leimaymain.cavearts.org/?p=4328
CONTACT:3478384677
ORGANIZER:LEIMAY
ATTACH;FMTTYPE="image/jpeg":http://storage.ning.com/topology/rest/1.0/
 file/get/111740658?profile=original
ATTENDEE;ROLE=REQ-PARTICIPANT;PARTSTAT=ACCEPTED;RSVP=TRUE;CN="Denise S
 hu Mei":http://conectom.leimay.org/profile/DeniseShuMei
END:VEVENT
END:VCALENDAR
