BEGIN:VCALENDAR
PRODID:NingEventWidget-v1
VERSION:2.0
METHOD:PUBLISH
BEGIN:VTIMEZONE
TZID:America/Anguilla
X-LIC-LOCATION:America/Anguilla
BEGIN:STANDARD
TZOFFSETFROM:-0400
TZOFFSETTO:-0400
TZNAME:AST
DTSTART:19700101T000000
END:STANDARD
END:VTIMEZONE
BEGIN:VEVENT
UID:5831649:Event:68931
DTSTAMP:20260419T124334Z
SUMMARY:SOAK 2016 LEIMAY LUDUS: Eurhythmy of Speech and Color with Gio
  Kusanagi
DESCRIPTION:Gio Kusanagi was trained with Eurythmy (developed by Rudol
 f Steiner) by Akira Kasai and Jolanda Frischknecht. Eurythmy is a move
 ment art that attempts to embody the vibrations of various elements, s
 uch as, color, spoken language, music, soul gestures, & planets. Durin
 g the first half, participants will learn the movements that correspon
 d to vowels and consonants in Speech Eurythmy, followed by their short
  presentation in pairs by exercising the learned skills. In the second
  half, participants will learn the Color Eurythmy, followed by a guide
 d meditation to access their core , which will then be translated into
  original color paintings. The workshop will culminate with the partic
 ipantâ€™s active self-expression through the dances of inner colors. Â
  \nÂ \nAbout Gio Kusanagi\nGio Kusanagi is a native of Japan and has s
 tudied Butoh with Moe Yamamoto, Toru Iwashita, Kunisuke Kamiryo, Yoshi
 to Ohno, Yukio Waguri, Seisaku & Yuri, Ko Muroboshi, and Kayo Mikami, 
 and Modern Dance with Bill Evans, Kista Tucker, Don Halquis, Angela De
 nnis, Kristina Isabella, and is a Certified Evans Method Modern Dance 
 Instructor. Gio was the Artist in Residence at Bronx Academy of Arts a
 nd Dance in 2012, was a commissioned choreographer for the Asian Ameri
 can Dance Festival in Manhattan in 2012, a commissioned choreographer 
 at Pittsburgh First Night in 2009, 2010, 2011, 2012, 2013, and 2014, a
 nd a commissioned choreographer at Dayton Performance Art Festival in 
 2008.\n\nJune 2, 6pm-10pm\nREGISTER\n\nFor more information visit http
 ://conectom.leimay.org/events/soak-2016-ludus-gio-kusanagi
DTSTART;TZID=America/Anguilla:20160602T180000
DTEND;TZID=America/Anguilla:20160602T220000
CATEGORIES:"ludus lab", class, workshop
LOCATION:CAVE home of LEIMAY
WEBSITE:
URL:
CONTACT:3478384677
ORGANIZER:LEIMAY
ATTACH;FMTTYPE="image/jpeg":http://storage.ning.com/topology/rest/1.0/
 file/get/111740666?profile=original
ATTENDEE;ROLE=REQ-PARTICIPANT;PARTSTAT=ACCEPTED;RSVP=TRUE;CN="Denise S
 hu Mei":http://conectom.leimay.org/profile/DeniseShuMei
END:VEVENT
END:VCALENDAR
