BEGIN:VCALENDAR
PRODID:NingEventWidget-v1
VERSION:2.0
METHOD:PUBLISH
BEGIN:VTIMEZONE
TZID:America/Anguilla
X-LIC-LOCATION:America/Anguilla
BEGIN:STANDARD
TZOFFSETFROM:-0400
TZOFFSETTO:-0400
TZNAME:AST
DTSTART:19700101T000000
END:STANDARD
END:VTIMEZONE
BEGIN:VEVENT
UID:5831649:Event:38168
DTSTAMP:20260422T133341Z
SUMMARY:SMOKEFORBLUESFESTIVAL // KING HOLIDAY PRESENTS: BLOO VOYAGE
DESCRIPTION:Presented in conjunction with Blues For Smoke, this weeke
 nd-long festival showcases an emerging generation of younger artists w
 orking in the rap, hip-hop, and soul genres.\nFestival dates: Friday,
  April 5: 6–9 pmSaturday, April 6: 11 am–6 pmSunday, April 7: 11
  am–6 pm\nSaturday, April 6: King Holiday Presents: BLOOVOYAGEKing 
 Holiday will be featured live in concert amidst an immersive installat
 ion environment conceived of by group members Leslie Dumouchel and Ben
 jamin Martin. The second-floor gallery spaces will be transformed into
  a poetically suggestive series of vignettes depicting the life of an
 anonymous traveling blues musician. Throughout the day, visitors are 
 encouraged to move through the galleries and experience the installati
 on through film, soundscape, kinetic sculpture, and immersive set desi
 gn; live performances will take place at 1 and 4 pm.\nKing Holiday ban
 d members:Leslie DuMouchel (Bandleader/Lead Vocalist)Benjamin Martin (
 Percussion)Miles Spillane (Drums)Ben Warheit (Keyboard and Vocals)Andr
 ew Friedman (Bass)Ben Lieberman (Guitar)Noah Dreiblatt (Tenor Sax)Dan 
 Lehner (Trombone)Mike Sailors (Trumpet)Chesney Polis (Background Vocal
 ist)Samantha Rise (Background Vocalist)\nAdditional Performers:Cabo Bl
 anco (Live DJ)Christie Gehrisch and Ed “Preachermann” Holley (Orig
 inal Live Music). Special thanks to Harris Punyon, Darin Atwater, and
  The Skainish OneKesed (Spoken Narrator)Holly Wetcircuit Daggers (Live
  VJing)\nCollaborators:Benjamin Martin (Cinematographer)Cosmo Erazo (V
 ideo Editor)Courtney McKenna (Costumes)Edward Scott (Set Design)Lindsa
 y Keys (Photograph)\nSpecial thanks to Mark Cantor and K&M Camera\nAll
  festival peformances are free with Museum admission, which is pay-wha
 t-you-wish on Fridays, 6–9 pm; no special tickets or reservations a
 re required. Members enjoy complimentary and express entry to the Mu
 seum.\n\nFor more information visit http://conectom.leimay.org/events/
 smokeforbluesfestival-king-holiday-presents-bloo-voyage
DTSTART;TZID=America/Anguilla:20130406T110000
DTEND;TZID=America/Anguilla:20130406T180000
CATEGORIES:"hip hop festival", "whitney museum", "king holiday"
LOCATION:Whitney Museum of American Art
WEBSITE:http://whitney.org/Events/BluesForSmokeFestivalDay2
URL:http://whitney.org/Events/BluesForSmokeFestivalDay2
CONTACT:
ORGANIZER:
ATTACH;FMTTYPE="image/jpeg":http://storage.ning.com/topology/rest/1.0/
 file/get/111736119?profile=original
ATTENDEE;ROLE=REQ-PARTICIPANT;PARTSTAT=ACCEPTED;RSVP=TRUE;CN="Raul Zbe
 ngheci":http://conectom.leimay.org/profile/RaulZbengheci
END:VEVENT
END:VCALENDAR
