BEGIN:VCALENDAR
PRODID:NingEventWidget-v1
VERSION:2.0
METHOD:PUBLISH
BEGIN:VTIMEZONE
TZID:America/Anguilla
X-LIC-LOCATION:America/Anguilla
BEGIN:STANDARD
TZOFFSETFROM:-0400
TZOFFSETTO:-0400
TZNAME:AST
DTSTART:19700101T000000
END:STANDARD
END:VTIMEZONE
BEGIN:VEVENT
UID:5831649:Event:28953
DTSTAMP:20260419T220736Z
SUMMARY:SITE Project
DESCRIPTION:SITE Project is a month-long gallery exhibition and two-n
 ight contemporary performance event. The exhibition features 10 invit
 ed NY-based African diasporic, visual and time-based artists charged t
 o respond to the theme/idea/concept of “site” through their own un
 ique artistic processes and practices.  “My intent with the SITE P
 roject, is to cultivate, through the vehicle of exhibition and perform
 ance, the African Diasporic collective consciousness.  It is through 
 these artistic means, that realities of identity, community, and kinsh
 ip can be revealed,” Whitney V. Hunter (curator).\n\nFor more inform
 ation visit http://conectom.leimay.org/events/site-project-1
DTSTART;TZID=America/Anguilla:20121103T193000
DTEND;TZID=America/Anguilla:20121103T213000
CATEGORIES:stage, performance
LOCATION:Kumble Center for the Performing Arts
WEBSITE:
URL:
CONTACT:
ORGANIZER;CN="Raul Zbengheci":http://conectom.leimay.org/profile/RaulZ
 bengheci
ATTACH;FMTTYPE="image/jpeg":http://storage.ning.com/topology/rest/1.0/
 file/get/111735265?profile=original
ATTENDEE;ROLE=REQ-PARTICIPANT;PARTSTAT=ACCEPTED;RSVP=TRUE;CN="Raul Zbe
 ngheci":http://conectom.leimay.org/profile/RaulZbengheci
END:VEVENT
END:VCALENDAR
