BEGIN:VCALENDAR
PRODID:NingEventWidget-v1
VERSION:2.0
METHOD:PUBLISH
BEGIN:VTIMEZONE
TZID:America/Anguilla
X-LIC-LOCATION:America/Anguilla
BEGIN:STANDARD
TZOFFSETFROM:-0400
TZOFFSETTO:-0400
TZNAME:AST
DTSTART:19700101T000000
END:STANDARD
END:VTIMEZONE
BEGIN:VEVENT
UID:5831649:Event:58027
DTSTAMP:20260419T130719Z
SUMMARY:Shanghai Mermaid's Dragon Ball
DESCRIPTION:There are costume parties, and then there's underground ca
 baret Shanghai Mermaid. The ongoing series of swanky evenings transpo
 rts guests to a decadent and immaculately detailed vintage nightclub, 
 and its annual Dragon Ball is the signature event of every year. New Y
 ork's best singers, musicians, and burlesque dancers fill two floors t
 ransformed into a Jazz Age Shanghai speakeasy teeming with intrigue. S
 tyle for the night take inspiration from the hazy opium dens and shady
  urban streets of the Paris of the East. Think big, because dressing u
 p is required for entry, and being overdressed is impossible.\n\nFor m
 ore information visit http://conectom.leimay.org/events/shanghai-merma
 id-s-dragon-ball
DTSTART;TZID=America/Anguilla:20150221T220000
DTEND;TZID=America/Anguilla:20150222T000000
CATEGORIES:music, performance
LOCATION:The Downtown Association
WEBSITE:http://www.shanghaimermaid.com/party/info.DRAGONBALL.info.html
URL:http://www.shanghaimermaid.com/party/info.DRAGONBALL.info.html
CONTACT:
ORGANIZER:
ATTACH;FMTTYPE="image/jpeg":http://storage.ning.com/topology/rest/1.0/
 file/get/111739575?profile=original
ATTENDEE;ROLE=REQ-PARTICIPANT;PARTSTAT=ACCEPTED;RSVP=TRUE;CN=LEIMAY:ht
 tp://conectom.leimay.org/profile/LEIMAY_CAVE
END:VEVENT
END:VCALENDAR
